BEGIN:VCALENDAR
VERSION:2.0
PRODID:-//ChamberMaster//Event Calendar 2.0//EN
METHOD:PUBLISH
X-PUBLISHED-TTL:P3D
REFRESH-INTERVAL:P3D
CALSCALE:GREGORIAN
BEGIN:VEVENT
DTSTART:20240210T140000Z
DTEND:20240210T210000Z
X-MICROSOFT-CDO-ALLDAYEVENT:FALSE
SUMMARY:Indigo Bluegrass BBQ Festival at Central Florida Zoo & Botanical Gardens
DESCRIPTION:Help us celebrate I ?? Indigo Day at the 3rd Annual Indigo Bluegrass BBQ taking place on Saturday\, February 10th from 9AM-4PM. This special day at the Zoo will focus on our ongoing conservation efforts of the Eastern indigo snake at the Zoo's Orianne Center for Indigo Conservation (OCIC) and highlight the Association of Zoos and Aquariums' Saving Animals From Extinction (SAFE) programs.\n\nSlither your way over to the Zoo for a family-friendly day of live bluegrass music from Sandy Back Porch\, great BBQ available for purchase\, conservation education and other fun activities like guest presentations from the OCIC\, extra keeper chats\, a charity raffle and presentation of native reptiles during our Amazing Reptiles show.\n\nLearn more about the importance of Florida's native Eastern indigo snakes\, discover how you can help\, and make a difference in Florida's ecosystem by attending this special event!\n\n\n	Tickets / Entry:\n	\n		Members: This day is included in your annual membership. Suggested donation of $2 to benefit conservation efforts at OCIC\, payable at the ticket booth onsite.\n		Nonmembers: $24.95 for adults\, $19.95 for seniors\, $20.95 for kids ages 3-12\, and 2 & under are free\n	\n	\n\n\n*$2 from each ticket sold will benefit the conservation efforts at OCIC. \n\n\n\nFor event schedule\, ticketing and more information\, visit: Central Florida Zoo & Botanical Gardens Indigo Bluegrass BBQ and 'I ?? Indigo Day' at the Zoo - Central Florida Zoo & Botanical Gardens
X-ALT-DESC;FMTTYPE=text/html:<p>Help us celebrate I ?? Indigo Day at the&nbsp\;<strong>3<span style="font-size:12px">rd</span>&nbsp\;Annual&nbsp\;</strong><strong>I</strong><strong>ndigo Bluegrass BBQ&nbsp\;</strong>taking place on<strong>&nbsp\;Saturday\, February 10<span style="font-size:12px">th</span>&nbsp\;from 9AM-4PM</strong>. This special day at the Zoo will focus on our ongoing conservation efforts of the Eastern indigo snake at the Zoo&rsquo\;s&nbsp\;<span style="font-family:proxima_nova_altbold"><a href="https://www.centralfloridazoo.org/ocic/" style="box-sizing: inherit\; background-color: transparent\; color: rgb(51\, 122\, 183)\; text-decoration-line: none\;">Orianne Center for Indigo Conservation (OCIC)</a></span>&nbsp\;and highlight the Association of Zoos and Aquariums&rsquo\;&nbsp\;<span style="font-family:proxima_nova_altbold"><a href="https://www.aza.org/aza-safe" style="box-sizing: inherit\; background-color: transparent\; color: rgb(51\, 122\, 183)\; text-decoration-line: none\;">Saving Animals From Extinction (SAFE)</a></span>&nbsp\;programs.</p>\n\n<p>Slither your way over to the Zoo for a family-friendly day of live bluegrass music from&nbsp\;<span style="font-family:proxima_nova_altbold"><a href="https://sandybackporch.com/bluegrass" style="box-sizing: inherit\; background-color: transparent\; color: rgb(51\, 122\, 183)\; text-decoration-line: none\;">Sandy Back Porch</a></span>\, great BBQ available for purchase\, conservation education and other fun activities like guest presentations from the OCIC\, extra keeper chats\, a charity raffle and presentation of native reptiles during our Amazing Reptiles show.</p>\n\n<p>Learn more about the importance of Florida&rsquo\;s native Eastern indigo snakes\, discover how you can help\, and make a difference in Florida&rsquo\;s ecosystem by attending this special event!</p>\n\n<ul>\n	<li>Tickets / Entry:\n	<ul>\n		<li>Members: This day is included in your annual membership. Suggested donation of&nbsp\;$2&nbsp\;to benefit conservation efforts at OCIC\, payable at the ticket booth onsite.</li>\n		<li>Nonmembers:&nbsp\;$24.95&nbsp\;for adults\,&nbsp\;$19.95&nbsp\;for seniors\,&nbsp\;$20.95&nbsp\;for kids ages 3-12\, and 2 &amp\; under are&nbsp\;free</li>\n	</ul>\n	</li>\n</ul>\n\n<p><em>*$2 from each ticket sold will benefit the conservation efforts at OCIC.&nbsp\;<br />\n<br />\nFor event schedule\, ticketing and more information\, visit:&nbsp\;</em><a href="https://www.centralfloridazoo.org/event/ocic-indigo-bluegrass-bbq/">Central Florida Zoo &amp\; Botanical Gardens Indigo Bluegrass BBQ and &#39\;I ?? Indigo Day&#39\; at the Zoo - Central Florida Zoo &amp\; Botanical Gardens</a></p>\n
LOCATION:Central Florida Zoo & Botanical Gardens: 3755 W. Seminole Blvd.\, Sanford\, FL 32771
UID:e.2138.33774
SEQUENCE:3
DTSTAMP:20260424T173256Z
URL:https://business.seminolebusiness.org/events/details/indigo-bluegrass-bbq-festival-at-central-florida-zoo-botanical-gardens-33774
END:VEVENT

END:VCALENDAR
