BEGIN:VCALENDAR
VERSION:2.0
PRODID:-//ChamberMaster//Event Calendar 2.0//EN
METHOD:PUBLISH
X-PUBLISHED-TTL:P3D
REFRESH-INTERVAL:P3D
CALSCALE:GREGORIAN
BEGIN:VEVENT
DTSTART:20190531T130000Z
DTEND:20190531T140000Z
X-MICROSOFT-CDO-ALLDAYEVENT:FALSE
SUMMARY:Information Session on Applying for the Seminole Business Awards
DESCRIPTION:Winning a Seminole Business Awards often depends on writing a great nomination letter.\n\n \n\nTo assist companies in their nomination\, the Seminole County Regional Chamber of Commerce is providing an hour-long seminar on what you need to know to tell your story to the judges.\n\n \n\nSubjects covered include:\n\n	Including the data to show your success\n	Answering the questions asked\n	Who should nominate you\n	Process you should take to nominate\n	How to incorporate outside materials\n	Finding what makes your story impressive\n	Impressing the judges in the first sentence\n\nAlan Byrd\, who ran Orlando Business Journal's nomination process\, will share with you what judges look for in a nomination and what makes you stand out!
X-ALT-DESC;FMTTYPE=text/html:Winning a Seminole Business Awards often depends on writing a great nomination letter.<br />\n&nbsp\;<br />\nTo assist companies in their nomination\, the Seminole County Regional Chamber of Commerce is providing an hour-long seminar on what you need to know to tell your story to the judges.<br />\n&nbsp\;<br />\nSubjects covered include:\n<ul>\n	<li>Including the data to show your success</li>\n	<li>Answering the questions asked</li>\n	<li>Who should nominate you</li>\n	<li>Process you should take to nominate</li>\n	<li>How to incorporate outside materials</li>\n	<li>Finding what makes your story impressive</li>\n	<li>Impressing the judges in the first sentence</li>\n</ul>\nAlan Byrd\, who ran Orlando Business Journal&#39\;s nomination process\, will share with you what judges look for in a nomination and what makes you stand out!
LOCATION:Seminole State College - Heathrow Campus 1055 AAA Drive\, Room #150 Heathrow\, FL 32746
UID:e.2138.15179
SEQUENCE:3
DTSTAMP:20260422T081323Z
URL:https://business.seminolebusiness.org/events/details/information-session-on-applying-for-the-seminole-business-awards-15179
END:VEVENT

END:VCALENDAR
