BEGIN:VCALENDAR
VERSION:2.0
PRODID:-//ChamberMaster//Event Calendar 2.0//EN
METHOD:PUBLISH
X-PUBLISHED-TTL:P3D
REFRESH-INTERVAL:P3D
CALSCALE:GREGORIAN
BEGIN:VEVENT
DTSTART:20160726T230000Z
DTEND:20160727T003000Z
X-MICROSOFT-CDO-ALLDAYEVENT:FALSE
SUMMARY:International Adoption Information Webinar
DESCRIPTION:Join us for our first informational webinar! \n\nWe know that embarking on an adoption journey can be overwhelming\, especially if you are considering international adoption. How do you choose a country? What children are available? What are the risks? Is adoption right for me? Do I even qualify for adoption? \n\n\n\nJoin us as we answer these questions and more to help you start this journey called adoption. \n\n\n\nFind more information and RSVP for the event here: https://www.facebook.com/events/1591258974505030/\n\n\n\nAlso\, just for our fellow Chamber members\, the $250 application fee will be waived if you let us know you attended our event!
X-ALT-DESC;FMTTYPE=text/html:<h2 style="font-style:italic\;"><span style="font-family:arial\,helvetica\,sans-serif">Join us for our first informational webinar!&nbsp\;</span></h2>\n\n<p><span style="font-family:arial\,helvetica\,sans-serif"><span style="background-color:rgb(255\, 255\, 255)\; color:rgb(75\, 79\, 86)">We know that embarking on an adoption journey can be overwhelming\, especially if you are considering international adoption. How do you choose a country? What children are available? What are the risks? Is adoption right for me? Do I even qualify for adoption?&nbsp\;</span><br />\n<br />\n<span style="background-color:rgb(255\, 255\, 255)\; color:rgb(75\, 79\, 86)">Join us as we answer these questions and more to help you start this journey called adoption.&nbsp\;<br />\n<br />\nFind more information and RSVP for the event here:&nbsp\;</span>https://www.facebook.com/events/1591258974505030/<br />\n<br />\n<span style="background-color:rgb(255\, 255\, 255)\; color:rgb(75\, 79\, 86)">Also\, just for our fellow Chamber members\, the $250 application fee will be waived if you let us know you attended our event!&nbsp\;</span></span></p>\n
LOCATION:Online webinar
UID:e.2138.4609
SEQUENCE:3
DTSTAMP:20260425T210300Z
URL:https://business.seminolebusiness.org/events/details/international-adoption-information-webinar-07-26-2016-4609
END:VEVENT

END:VCALENDAR
