BEGIN:VCALENDAR
VERSION:2.0
PRODID:-//ChamberMaster//Event Calendar 2.0//EN
METHOD:PUBLISH
X-PUBLISHED-TTL:P3D
REFRESH-INTERVAL:P3D
CALSCALE:GREGORIAN
BEGIN:VEVENT
DTSTART:20160922T151500Z
DTEND:20160922T170000Z
X-MICROSOFT-CDO-ALLDAYEVENT:FALSE
SUMMARY:International Facilities Management Association - Orlando chapter
DESCRIPTION:Preventing MOLD in your Facilities-a Big Florida issue!
X-ALT-DESC;FMTTYPE=text/html:Preventing MOLD in your Facilities-a Big Florida issue!
LOCATION:
UID:e.2138.4887
SEQUENCE:3
DTSTAMP:20260425T175856Z
URL:https://business.seminolebusiness.org/events/details/international-facilities-management-association-orlando-chapter-4887
END:VEVENT

END:VCALENDAR
