BEGIN:VCALENDAR
VERSION:2.0
PRODID:-//ChamberMaster//Event Calendar 2.0//EN
METHOD:PUBLISH
X-PUBLISHED-TTL:P3D
REFRESH-INTERVAL:P3D
CALSCALE:GREGORIAN
BEGIN:VEVENT
DTSTART:20160428T113000Z
DTEND:20160428T153000Z
X-MICROSOFT-CDO-ALLDAYEVENT:FALSE
SUMMARY:International Facilities Management Association: Violence in the Workplace and Avoidng 17 mistakes made in Emergency Plans
DESCRIPTION:Did you know?? "The U.S. Attorney General reports that active shooter incidents at corporations\, campuses\, and other workplaces increased three-fold in 2013 versus the average of previous years" (courtesy of 911 Consulting Inc.)\n\n\n\nCome see Nationally known speaker Bo Mitchell of 911 Consulting on this important topic. Full Buffet breakfast with presentation. FREE workshop following
X-ALT-DESC;FMTTYPE=text/html:<span style="background-color:rgb(255\, 255\, 255)\; color:rgb(20\, 24\, 35)\; font-family:helvetica\,arial\,sans-serif\; font-size:14px">Did you know?? &quot\;The U.S. Attorney General reports that active shooter incidents at corporations\, campuses\, and other workplaces increased three-fold in 2013 versus the average of previous years&quot\; (courtesy of 911 Consulting Inc.)<br />\n<br />\nCome see Nationally known speaker Bo Mitchell of 911 Consulting on this important topic. Full Buffet breakfast with presentation. FREE workshop following</span>
LOCATION:The Country Club of Orlando
UID:e.2138.4442
SEQUENCE:3
DTSTAMP:20260426T014007Z
URL:https://business.seminolebusiness.org/events/details/international-facilities-management-association-violence-in-the-workplace-and-avoidng-17-mistakes-made-in-emergency-plans-04-28-2016-4442
END:VEVENT

END:VCALENDAR
