BEGIN:VCALENDAR
VERSION:2.0
PRODID:-//ChamberMaster//Event Calendar 2.0//EN
METHOD:PUBLISH
X-PUBLISHED-TTL:P3D
REFRESH-INTERVAL:P3D
CALSCALE:GREGORIAN
BEGIN:VEVENT
DTSTART:20180510T120000Z
DTEND:20180510T133000Z
X-MICROSOFT-CDO-ALLDAYEVENT:FALSE
SUMMARY:The 3rd Annual "It Takes a Village" Breakfast
DESCRIPTION:Join IMPOWER for the 3rd Annual "It Takes a Village Breakfast" and discover how you can play a pivotal role in the lives of homeless and former foster youth!\n\nSince 2006\, The Village\, a program of IMPOWER\, has served as a supportive housing option for homeless and former foster youth. Through safe housing and comprehensive wraparound services\, vulnerable youth are given a chance to achieve their goals and obtain the skills necessary to transition successfully into adulthood.\n\n\n\nThis complimentary & powerful\, one-hour event will introduce many of our youth\, share inspiring success stories and demonstrate the impact a Village can make!\n\nTo REGISTER for this event\, please click here.
X-ALT-DESC;FMTTYPE=text/html:<p>Join IMPOWER for the&nbsp\;3rd Annual&nbsp\;&quot\;It Takes a Village Breakfast&quot\; and&nbsp\;discover how you can play a pivotal role in the lives of homeless and former foster youth!</p>\n\n<p>Since 2006\, <strong>The Village</strong>\, a program of IMPOWER\, has served as a supportive housing option for homeless and former foster youth. Through safe housing and comprehensive wraparound services\, vulnerable youth are given a chance to achieve their goals and obtain the skills necessary to transition successfully into adulthood.<br />\n<br />\nThis complimentary &amp\; powerful\, one-hour event&nbsp\;will introduce many of our youth\, share inspiring success stories and demonstrate the impact a <strong>Village</strong> can make!</p>\n\n<p>To REGISTER for this event\, please <a href="http://www.impowerfl.org/breakfast-registration/">click here.</a></p>\n
LOCATION:Location: Longwood Community Building\, 200 W Warren Avenue\, Longwood\, FL 32750
UID:e.2138.8801
SEQUENCE:3
DTSTAMP:20260424T102009Z
URL:https://business.seminolebusiness.org/events/details/it-takes-a-village-breakfast-05-10-2018-8801
END:VEVENT

END:VCALENDAR
