BEGIN:VCALENDAR
VERSION:2.0
PRODID:-//ChamberMaster//Event Calendar 2.0//EN
METHOD:PUBLISH
X-PUBLISHED-TTL:P3D
REFRESH-INTERVAL:P3D
CALSCALE:GREGORIAN
BEGIN:VEVENT
DTSTART:20170511T120000Z
DTEND:20170511T133000Z
X-MICROSOFT-CDO-ALLDAYEVENT:FALSE
SUMMARY:It Takes a Village Breakfast
DESCRIPTION:Join us for a morning of inspirational stories and discover how you can play a pivotal role in the lives of homeless and former foster youth! This complimentary & powerful\, one-hour event will introduce many of our youth\, share inspiring success stories and demonstrate the impact a Village can make!\n\n\n\nSince 2006\, The Village\, a program of IMPOWER\, has served as a supportive housing option for homeless and former foster youth. Through safe housing and comprehensive wraparound services\, vulnerable youth are given a chance to achieve their goals and obtain the skills necessary to transition successfully into adulthood.
X-ALT-DESC;FMTTYPE=text/html:Join us for a morning of&nbsp\;inspirational stories and&nbsp\;discover how you can play a pivotal role in the lives of homeless and former foster youth! This complimentary &amp\; powerful\, one-hour event&nbsp\;will introduce many of our youth\, share inspiring success stories and demonstrate the impact a <strong>Village</strong> can make!<br />\n<br />\nSince 2006\, <strong>The Village</strong>\, a program of IMPOWER\, has served as a supportive housing option for homeless and former foster youth. Through safe housing and comprehensive wraparound services\, vulnerable youth are given a chance to achieve their goals and obtain the skills necessary to transition successfully into adulthood.
LOCATION:Tuscawilla Country Club 1500 Winter Springs Blvd. Winter Springs\, FL 32708
UID:e.2138.6461
SEQUENCE:3
DTSTAMP:20260423T210552Z
URL:https://business.seminolebusiness.org/events/details/it-takes-a-village-breakfast-6461
END:VEVENT

END:VCALENDAR
