BEGIN:VCALENDAR
VERSION:2.0
PRODID:-//ChamberMaster//Event Calendar 2.0//EN
METHOD:PUBLISH
X-PUBLISHED-TTL:P3D
REFRESH-INTERVAL:P3D
CALSCALE:GREGORIAN
BEGIN:VEVENT
DTSTART:20250512T120000Z
DTEND:20250512T170000Z
X-MICROSOFT-CDO-ALLDAYEVENT:FALSE
SUMMARY:Jewish Pavilion Senior Services Annual Charity Golf Tournament
DESCRIPTION:Play Heathrow Country Club with a Pro and Take a Shot at a Free Mercedes Lease!\n\nClick Here to Register\n\nPlease join us for a day of fun\, prizes\, an auction\, a wonderful outdoor quick breakfast\, and a fabulous outdoor gourmet lunch. This is a great way to support the Orlando Senior Help Desk\, a free resource for seniors and their families provided by Jewish Pavilion Senior Services. Individuals\, groups\, sponsors\, all are welcome!\n\nFor more information and to register\, click here: https://jewishpavilion.org/2025-golf-tournament/
X-ALT-DESC;FMTTYPE=text/html:<h2><strong>Play Heathrow Country Club with a Pro and Take a Shot at a Free Mercedes Lease!</strong></h2>\n\n<h2><a href="https://jewishpavilion.org/2025-golf-tournament/">Click Here to Register</a></h2>\n\n<h2>Please join us for a day of fun\, prizes\, an auction\, a wonderful outdoor quick breakfast\, and a fabulous outdoor gourmet lunch. This is a great way to support the Orlando Senior Help Desk\, a free resource for seniors and their families provided by Jewish Pavilion Senior Services. Individuals\, groups\, sponsors\, all are welcome!</h2>\n\n<h2>For more information and to register\, click here:&nbsp\;<a href="https://jewishpavilion.org/2025-golf-tournament/">https://jewishpavilion.org/2025-golf-tournament/</a></h2>\n
LOCATION:Heathrow Country Club\, 1200 Bridgewater Drive\, Heathrow\, FL 32746
UID:e.2138.36956
SEQUENCE:3
DTSTAMP:20260423T140153Z
URL:https://business.seminolebusiness.org/events/details/jewish-pavilion-senior-services-annual-charity-golf-tournament-36956
END:VEVENT

END:VCALENDAR
