BEGIN:VCALENDAR
VERSION:2.0
PRODID:-//ChamberMaster//Event Calendar 2.0//EN
METHOD:PUBLISH
X-PUBLISHED-TTL:P3D
REFRESH-INTERVAL:P3D
CALSCALE:GREGORIAN
BEGIN:VEVENT
DTSTART:20161022T210000Z
DTEND:20161022T230000Z
X-MICROSOFT-CDO-ALLDAYEVENT:FALSE
SUMMARY:Jim Payne Corporate 5K
DESCRIPTION:
X-ALT-DESC;FMTTYPE=text/html:
LOCATION:Fort Mellon Park - 600 E First Street\, Sanford\, FL 32771
UID:e.2138.4482
SEQUENCE:3
DTSTAMP:20260425T164741Z
URL:https://business.seminolebusiness.org/events/details/jim-payne-corporate-5k-10-22-2016-4482
END:VEVENT

END:VCALENDAR
