BEGIN:VCALENDAR
VERSION:2.0
PRODID:-//ChamberMaster//Event Calendar 2.0//EN
METHOD:PUBLISH
X-PUBLISHED-TTL:P3D
REFRESH-INTERVAL:P3D
CALSCALE:GREGORIAN
BEGIN:VEVENT
DTSTART:20181007T170000Z
DTEND:20181007T210000Z
X-MICROSOFT-CDO-ALLDAYEVENT:FALSE
SUMMARY:Job Fair
DESCRIPTION:Visit Seminole Towne Center Saturday October 6th (11 a.m. - 5 p.m.) or Sunday October 7th (1 p.m. - 5 p.m.) for our holiday Job Fair. Tenants inside the shopping center as well as outside companies will be hiring for a variety of positions. Come prepared with you resume and dress to impress! \n\n\n\nSome companies may host interviews on the spot. Stay tuned for more information.\n\n\n\nIf you are a company that would like to participate please email seminoletownecenter@washingtonprime.com with your company information and the positions you are looking to hire for.
X-ALT-DESC;FMTTYPE=text/html:<span style="color: rgb(83\, 86\, 90)\; font-family: gotham ssm a\,gotham ssm b\,helvetica\,sans-serif\; font-size: 16px\;">Visit Seminole Towne Center Saturday October 6th (11 a.m. - 5 p.m.) or Sunday October 7th (1 p.m. - 5 p.m.) for our holiday Job Fair. Tenants inside the shopping center as well as outside companies will be hiring for a variety of positions. Come prepared with you resume and dress to impress!&nbsp\;</span><br />\n<br />\n<span style="color: rgb(83\, 86\, 90)\; font-family: gotham ssm a\,gotham ssm b\,helvetica\,sans-serif\; font-size: 16px\;">Some companies may host interviews on the spot. Stay tuned for more information.</span><br />\n<br />\n<span style="color: rgb(83\, 86\, 90)\; font-family: gotham ssm a\,gotham ssm b\,helvetica\,sans-serif\; font-size: 16px\;">If you are a company that would like to participate please email seminoletownecenter@washingtonprime.com with your company information and the positions you are looking to hire for.</span>
LOCATION:Seminole Towne Center Center Court 200 Towne Center Circle Sanford FL 32771
UID:e.2138.9567
SEQUENCE:3
DTSTAMP:20260424T022918Z
URL:https://business.seminolebusiness.org/events/details/job-fair-10-07-2018-9567
END:VEVENT

END:VCALENDAR
