BEGIN:VCALENDAR
VERSION:2.0
PRODID:-//ChamberMaster//Event Calendar 2.0//EN
METHOD:PUBLISH
X-PUBLISHED-TTL:P3D
REFRESH-INTERVAL:P3D
CALSCALE:GREGORIAN
BEGIN:VEVENT
DTSTART:20180503T130000Z
DTEND:20180503T210000Z
X-MICROSOFT-CDO-ALLDAYEVENT:FALSE
SUMMARY:JOB FAIR - ATRIA PARK OF LAKE FOREST
DESCRIPTION:When you work at Atria\, you not only have a front-row seat to the amazing\n\nlife stories of the wisest people on earth   you play an important role\n\nin helping them continue to lead extraordinary lives\, every day.\n\n \n\nLearn about these career opportunities:\n\n\n	LPNS\n	MED TECHS\n	CAREGIVERS\n	 MEMORY CARE CAREGIVERS\n	CERTIFIED NURSES AIDE (CNAS)\n	DINING ROOM SERVERS\n	DISHWASHERS\n\n\nAtria Park of Lake Forest is hiring!\n\nJob Fair\n\nThursday\, May 3rd\, 2018\n\n9 AM   5 PM\n\nAtria Park of Lake Forest | 5433 W State Road 46 Sanford\, FL 32771\n\nFull-time\, part-time and on-call employees needed.\n\nPlease apply online before you come to the job fair.\n\nAtriaSeniorLiving.com/Careers
X-ALT-DESC;FMTTYPE=text/html:<p>When you work at Atria\, you not only have a front-row seat to the amazing</p>\n\n<p>life stories of the wisest people on earth &ndash\; you play an important role</p>\n\n<p>in helping them continue to lead extraordinary lives\, every day.<br />\n&nbsp\;</p>\n\n<p>Learn about these career opportunities:</p>\n\n<ul>\n	<li>LPNS</li>\n	<li>MED TECHS</li>\n	<li>CAREGIVERS</li>\n	<li>&nbsp\;MEMORY CARE CAREGIVERS</li>\n	<li>CERTIFIED NURSES AIDE (CNAS)</li>\n	<li>DINING ROOM SERVERS</li>\n	<li>DISHWASHERS</li>\n</ul>\n\n<p><strong>Atria Park of Lake Forest is hiring!</strong></p>\n\n<p>Job Fair</p>\n\n<p>Thursday\, May 3rd\, 2018</p>\n\n<p>9 AM &ndash\; 5 PM</p>\n\n<p>Atria Park of Lake Forest | 5433 W State Road 46 Sanford\, FL 32771</p>\n\n<p>Full-time\, part-time and on-call employees needed.</p>\n\n<p>Please apply online before you come to the job fair.</p>\n\n<p><strong>AtriaSeniorLiving.com/Careers</strong></p>\n
LOCATION:Atria Park of Lake Forest 5433 W. State Rd. 46 Sanford\, FL 32771
UID:e.2138.8962
SEQUENCE:3
DTSTAMP:20260424T120612Z
URL:https://business.seminolebusiness.org/events/details/job-fair-atria-park-of-lake-forest-8962
END:VEVENT

END:VCALENDAR
