BEGIN:VCALENDAR
VERSION:2.0
PRODID:-//ChamberMaster//Event Calendar 2.0//EN
METHOD:PUBLISH
X-PUBLISHED-TTL:P3D
REFRESH-INTERVAL:P3D
CALSCALE:GREGORIAN
BEGIN:VEVENT
DTSTART:20140503T193000Z
DTEND:20140503T230000Z
X-MICROSOFT-CDO-ALLDAYEVENT:FALSE
SUMMARY:JOCKEYS JULEPS AND JAZZ
DESCRIPTION:Derby party with food\, beverages\, hat competition\; music\; large screen view of the 140th "run for the roses" at Audi Orlando North.\nSingle tickets are priced at $25.00 per person or $40 a couple in advance. Reserved tables for 10 guests must be secured by April 19th at a cost of $500.00. Table fee includes: Access to reserved table of 10 featuring Floral Designer centerpiece\, Red Carpet Valet service\, souvenir cups from the Derby Festival\, Unlimited Mint Juleps and the Vineyard Wine Company Winner Circle champagne toast after race. Tickets and information are on-line at OrlandoEventsUnlimited.com or they can be purchased Monday through Saturday during regular business hours at Audi North Orlando until May 1st. This event is open to the public with proceeds benefiting the CENTRAL FLORIDA ZOO (501c3).
X-ALT-DESC;FMTTYPE=text/html:Derby party with food\, beverages\, hat competition\; music\; large screen view of the 140th "run for the roses" at Audi Orlando North.\nSingle tickets are priced at $25.00 per person or $40 a couple in advance. Reserved tables for 10 guests must be secured by April 19th at a cost of $500.00. Table fee includes: Access to reserved table of 10 featuring Floral Designer centerpiece\, Red Carpet Valet service\, souvenir cups from the Derby Festival\, Unlimited Mint Juleps and the Vineyard Wine Company Winner Circle champagne toast after race. Tickets and information are on-line at OrlandoEventsUnlimited.com or they can be purchased Monday through Saturday during regular business hours at Audi North Orlando until May 1st. This event is open to the public with proceeds benefiting the CENTRAL FLORIDA ZOO (501c3).\n				        
LOCATION:Audi North Orlando Exit 101C off I-4 West of the I-4 overpass S.R. 46
UID:e.2138.1585
SEQUENCE:3
DTSTAMP:20260420T112244Z
URL:https://business.seminolebusiness.org/events/details/jockeys-juleps-and-jazz-05-03-2014-1585
END:VEVENT

END:VCALENDAR
