BEGIN:VCALENDAR
VERSION:2.0
PRODID:-//ChamberMaster//Event Calendar 2.0//EN
METHOD:PUBLISH
X-PUBLISHED-TTL:P3D
REFRESH-INTERVAL:P3D
CALSCALE:GREGORIAN
BEGIN:VEVENT
DTSTART:20231204T160000Z
DTEND:20231204T183000Z
X-MICROSOFT-CDO-ALLDAYEVENT:FALSE
SUMMARY:JP Connections – Volunteer Appreciation Luncheon
DESCRIPTION:Join us for a great luncheon\, recognizing the volunteers who truly help us fulfill our mission of enriching the lives of seniors. Plus\, you'll find a bevy of businesses who support our organization with great goods and services you can find only at this event!
X-ALT-DESC;FMTTYPE=text/html:<span style="color:rgb(20\, 24\, 39)\; font-family:helvetica neue\,helvetica\,-apple-system\,blinkmacsystemfont\,roboto\,arial\,sans-serif\; font-size:18px">Join us for a great luncheon\, recognizing the volunteers who truly help us fulfill our mission of enriching the lives of seniors. Plus\, you&rsquo\;ll find a bevy of businesses who support our organization with great goods and services you can find only at this event!</span>
LOCATION:Hilton Altamonte Springs 350 Northlake Blvd\, Altamonte Springs\, FL 32701
UID:e.2138.33349
SEQUENCE:3
DTSTAMP:20260424T202717Z
URL:https://business.seminolebusiness.org/events/details/jp-connections-volunteer-appreciation-luncheon-33349
END:VEVENT

END:VCALENDAR
