BEGIN:VCALENDAR
VERSION:2.0
PRODID:-//ChamberMaster//Event Calendar 2.0//EN
METHOD:PUBLISH
X-PUBLISHED-TTL:P3D
REFRESH-INTERVAL:P3D
CALSCALE:GREGORIAN
BEGIN:VEVENT
DTSTART:20260124T160000Z
DTEND:20260125T030000Z
X-MICROSOFT-CDO-ALLDAYEVENT:FALSE
SUMMARY:Kelly's Homemade Ice Cream Grand Opening
DESCRIPTION:Celebrate Kelly's new Lake Mary Scoop Shop GRAND OPENING on January 24th! Featuring Crafts\, Music and Magic throughout the afternoon!
X-ALT-DESC;FMTTYPE=text/html:<span style="background-color:rgb(255\, 255\, 255)\; color:rgb(8\, 8\, 9)\; font-family:segoe ui historic\,segoe ui\,helvetica\,arial\,sans-serif\; font-size:15px">Celebrate Kelly&#39\;s new Lake Mary Scoop Shop GRAND OPENING on January 24th! Featuring Crafts\, Music and Magic throughout the afternoon!</span>
LOCATION:3801 W Lake Mary Blvd. Lake Mary\, FL
UID:e.2138.40018
SEQUENCE:3
DTSTAMP:20260423T004446Z
URL:https://business.seminolebusiness.org/events/details/kelly-s-homemade-ice-cream-grand-opening-40018
END:VEVENT

END:VCALENDAR
