BEGIN:VCALENDAR
VERSION:2.0
PRODID:-//ChamberMaster//Event Calendar 2.0//EN
METHOD:PUBLISH
X-PUBLISHED-TTL:P3D
REFRESH-INTERVAL:P3D
CALSCALE:GREGORIAN
BEGIN:VEVENT
DTSTART:20170113T230000Z
DTEND:20170114T000000Z
X-MICROSOFT-CDO-ALLDAYEVENT:FALSE
SUMMARY:Kick Ball / Preschool Tee Ball Information Meeting
DESCRIPTION:The Central Florida Athletes in Action Foundation\, Inc is a non-profit 501c3 organization dedicated to providing fun athletic opportunities for local boys and girls. We are excited to announce our new Kickball and Tee Ball Leagues for ages 3\, 4\, 5\, and 6. We invite local families to meet Chaz Lytle\, former professional player and Coach at the Home Run Warehouse located at 735 Industry Road #117\, Longwood\, FL on Friday\, January 13\, 2017 at 6:00 pm. Additional information will be available at that time including venues\, dates\, times\, programing and much more. Proceeds from the program will help support additional athletic opportunities for the youth in the area including our CFAA Bulldawgs' Cooperstown Journey. Reserve your spot via email at lessons@orlandobaseballlessons.com or call 407-951-6924. See you there!
X-ALT-DESC;FMTTYPE=text/html:<span style="background-color:rgb(255\, 255\, 255)\; color:rgb(75\, 79\, 86)\; font-family:san francisco\,-apple-system\,blinkmacsystemfont\,.sfnstext-regular\,sans-serif\; font-size:14px">The Central Florida Athletes in Action Foundation\, Inc is a non-profit 501c3 organization dedicated to providing fun athletic opportunities for local boys and girls. We are excited to announce our new Kickball and Tee Ball Leagues for ages 3\, 4\, 5\, and 6. We invite local families to meet Chaz Lytle\, former professional player and Coach at the Home Run Warehouse located at 735 Industry Road #117\, Longwood\, FL on Friday\, January 13\, 2017 at 6:00 pm. Additional information will be available at that time including venues\, dates\, times\, programing and much more. Proceeds from the program will help support additional athletic opportunities for the youth in the area including our CFAA Bulldawgs&rsquo\; Cooperstown Journey. Reserve your spot via email at lessons@orlandobaseballles</span><span style="background-color:rgb(255\, 255\, 255)\; color:rgb(75\, 79\, 86)\; font-family:san francisco\,-apple-system\,blinkmacsystemfont\,.sfnstext-regular\,sans-serif\; font-size:14px">sons.com or call 407-951-6924. See you there!</span>
LOCATION:Home Run Warehouse located at 735 Industry Road #117\, Longwood\, FL 32750
UID:e.2138.6161
SEQUENCE:3
DTSTAMP:20260423T150647Z
URL:https://business.seminolebusiness.org/events/details/kick-ball-preschool-tee-ball-information-meeting-6161
END:VEVENT

END:VCALENDAR
