BEGIN:VCALENDAR
VERSION:2.0
PRODID:-//ChamberMaster//Event Calendar 2.0//EN
METHOD:PUBLISH
X-PUBLISHED-TTL:P3D
REFRESH-INTERVAL:P3D
CALSCALE:GREGORIAN
BEGIN:VEVENT
DTSTART:20170504T223000Z
DTEND:20170504T233000Z
X-MICROSOFT-CDO-ALLDAYEVENT:FALSE
SUMMARY:Kick the Sugar Habit and HEALTHY Mint Chocolate Chip Ice Cream
DESCRIPTION:- Are you a sugarholic who wants to kick the habit? Do you have cravings you want help overcoming? Learn how to beat sugar addiction! \n\n\n\n- Understand why sugar is not good for your health and how to locate added sugars put in over 80% of our choices in grocery stores. \n\n\n\n- Learn healthy alternatives for your naughty favorites that taste great. We overcame our sugar habits and you can too! \n\n\n\nPresented by Dominick Pirone\, LMT --- Advanced Nutrition Response Testing Practitioner\n\n$100's in raffle prizes given out PLUS Dominick will be serving HEALTHY & DELICIOUS Mint Chocolate Chip Ice Cream that is sugar-free\, artificial sweetener-free\, dairy-free and more! You've got to taste it to believe it. We'll also be giving out a healthy recipe!\n\nThis Thursday\, May 4th\, from 6:30 - 7:30 pm. All of our guests instantly qualify for $195 off a Nutrition Response Testing consultation with Dominick. Normally $240. Only $45 this Thursday\, May 4th.
X-ALT-DESC;FMTTYPE=text/html:<p>- Are you a sugarholic who wants to kick the habit? Do you have cravings you want help overcoming? Learn how to beat sugar addiction!&nbsp\;<br />\n<br />\n- Understand why sugar is not good for your health and how to locate added sugars put&nbsp\;in over 80% of our choices in grocery stores.&nbsp\;<br />\n<br />\n- Learn healthy alternatives for your naughty favorites that taste great. We overcame our sugar habits and you can too!&nbsp\;<br />\n<br />\nPresented by Dominick Pirone\, LMT --- Advanced Nutrition Response Testing Practitioner</p>\n\n<p>$100&#39\;s in raffle prizes given out PLUS Dominick will be serving HEALTHY &amp\; DELICIOUS Mint Chocolate Chip Ice Cream that is sugar-free\, artificial sweetener-free\, dairy-free and more! You&#39\;ve got to taste it to believe it. We&#39\;ll also be giving out a healthy recipe!</p>\n\n<p>This Thursday\, May 4th\, from 6:30 - 7:30 pm. All of our guests instantly qualify for $195 off a Nutrition Response Testing consultation with Dominick. Normally $240. Only $45 this Thursday\, May 4th.</p>\n
LOCATION:Palmer Natural Health in Historic Longwood 135 W Pine Ave Longwood\, FL\, 32750
UID:e.2138.6732
SEQUENCE:3
DTSTAMP:20260423T223455Z
URL:https://business.seminolebusiness.org/events/details/kick-the-sugar-habit-and-healthy-mint-chocolate-chip-ice-cream-6732
END:VEVENT

END:VCALENDAR
