BEGIN:VCALENDAR
VERSION:2.0
PRODID:-//ChamberMaster//Event Calendar 2.0//EN
METHOD:PUBLISH
X-PUBLISHED-TTL:P3D
REFRESH-INTERVAL:P3D
CALSCALE:GREGORIAN
BEGIN:VEVENT
DTSTART:20181220T220000Z
DTEND:20181221T003000Z
X-MICROSOFT-CDO-ALLDAYEVENT:FALSE
SUMMARY:Kids Eat FREE at Chicken Salad Chick! Santa Claus is also making an appearance!
DESCRIPTION:Come and meet Santa Claus at Lake Mary's newest restaurant\, Chicken Salad Chick! From 5pm-7:30pm\, kids eat FREE with the purchase of an adult meal! Located at 1101 International Parkway\, in front of the Verizon building.
X-ALT-DESC;FMTTYPE=text/html:Come and meet Santa Claus at Lake Mary&#39\;s newest restaurant\, Chicken Salad Chick! From 5pm-7:30pm\, kids eat FREE with the purchase of an adult meal! Located at 1101 International Parkway\, in front of the Verizon building.&nbsp\;
LOCATION:1101 International Parkway\, Unit 1511 Lake Mary\, FL 32746 407-942-3307
UID:e.2138.14828
SEQUENCE:3
DTSTAMP:20260423T232935Z
URL:https://business.seminolebusiness.org/events/details/kids-eat-free-at-chicken-salad-chick-santa-claus-is-also-making-an-appearance-14828
END:VEVENT

END:VCALENDAR
