BEGIN:VCALENDAR
VERSION:2.0
PRODID:-//ChamberMaster//Event Calendar 2.0//EN
METHOD:PUBLISH
X-PUBLISHED-TTL:P3D
REFRESH-INTERVAL:P3D
CALSCALE:GREGORIAN
BEGIN:VEVENT
DTSTART;VALUE=DATE:20190603
DTEND;VALUE=DATE:20190607
TRANSP:TRANSPARENT
X-MICROSOFT-CDO-ALLDAYEVENT:TRUE
SUMMARY:Kids Eat Free- Fred's Market after 5pm
DESCRIPTION:Kids Eat Free every Monday - Thursday here at Fred's Market. Two children 12 and under eat free with the purchase of an Adult MarketTable starting at 5 pm.
X-ALT-DESC;FMTTYPE=text/html:Kids Eat Free every Monday - Thursday here at Fred&#39\;s Market. Two children 12 and under eat free with the purchase of an Adult MarketTable starting at 5 pm.
LOCATION:835 Currency Circle Lake Mary\, FL 32746
UID:e.2138.15186
SEQUENCE:3
DTSTAMP:20260422T063423Z
URL:https://business.seminolebusiness.org/events/details/kids-eat-free-fred-s-market-after-5pm-15186
END:VEVENT

END:VCALENDAR
