BEGIN:VCALENDAR
VERSION:2.0
PRODID:-//ChamberMaster//Event Calendar 2.0//EN
METHOD:PUBLISH
X-PUBLISHED-TTL:P3D
REFRESH-INTERVAL:P3D
CALSCALE:GREGORIAN
BEGIN:VEVENT
DTSTART:20170303T000000Z
DTEND:20170303T023000Z
X-MICROSOFT-CDO-ALLDAYEVENT:FALSE
SUMMARY:Kids vs. Pros
DESCRIPTION:The first match at Orlando City Stadium will feature 100 kids\, ages 8-10\, vs. players from Orlando City\, Orlando Pride and OCB for two 20 minute halves. Proceeds from the match will benefit the Orlando City Foundation.
X-ALT-DESC;FMTTYPE=text/html:<span style="color:rgb(0\, 0\, 0)\; font-family:arial\; font-size:14.6667px">The first match at Orlando City Stadium will feature 100 kids\, ages 8-10\, vs. players from Orlando City\, Orlando Pride and OCB for two 20 minute halves. Proceeds from the match will benefit the Orlando City Foundation.</span>
LOCATION:Orlando City Stadium 655 W. Church Street Orlando\, FL 32805
UID:e.2138.6437
SEQUENCE:3
DTSTAMP:20260423T174943Z
URL:https://business.seminolebusiness.org/events/details/kids-vs-pros-6437
END:VEVENT

END:VCALENDAR
