BEGIN:VCALENDAR
VERSION:2.0
PRODID:-//ChamberMaster//Event Calendar 2.0//EN
METHOD:PUBLISH
X-PUBLISHED-TTL:P3D
REFRESH-INTERVAL:P3D
CALSCALE:GREGORIAN
BEGIN:VEVENT
DTSTART:20160423T170000Z
DTEND:20160423T183000Z
X-MICROSOFT-CDO-ALLDAYEVENT:FALSE
SUMMARY:KidX Eco-Event
DESCRIPTION:
X-ALT-DESC;FMTTYPE=text/html:
LOCATION:Seminole Towne Center - Center Court
UID:e.2138.4443
SEQUENCE:3
DTSTAMP:20260426T013715Z
URL:https://business.seminolebusiness.org/events/details/kidx-eco-event-04-23-2016-4443
END:VEVENT

END:VCALENDAR
