BEGIN:VCALENDAR
VERSION:2.0
PRODID:-//ChamberMaster//Event Calendar 2.0//EN
METHOD:PUBLISH
X-PUBLISHED-TTL:P3D
REFRESH-INTERVAL:P3D
CALSCALE:GREGORIAN
BEGIN:VEVENT
DTSTART:20161010T160000Z
DTEND:20161010T220000Z
X-MICROSOFT-CDO-ALLDAYEVENT:FALSE
SUMMARY:Kiwanis Charity Golf Tournament to benefit UCP of Central Florida
DESCRIPTION:The Kiwanis Club of Greater Orlando   Winter Park is proud to announce their 42nd annual golf tournament to be held at Heathrow Country Club on Monday\, October 10th. Registration is at noon with a shotgun start at 1:00 pm. Space is limited so register today. All net proceeds from the tournament will be given to local charities supported by our club.\n\nFor the past four decades this tournament has raised money to support charities in Central Florida such as the Boys & Girls Clubs\, Edgewood Ranch\, The Hubbard House\, and UCP of Central Florida. Kiwanis is an international organization of volunteers in local clubs making a difference in their communities. The mission of Kiwanis is to improve the world\, one child and one community at a time. Kiwanis celebrated its 100th anniversary in 2015.
X-ALT-DESC;FMTTYPE=text/html:<p>The Kiwanis Club of Greater Orlando &ndash\; Winter Park is proud to announce their 42nd annual golf tournament to be held at Heathrow Country Club on Monday\, October 10th. Registration is at noon with a shotgun start at 1:00 pm. Space is limited so register today. All net proceeds from the tournament will be given to local charities supported by our club.</p>\n\n<p>For the past four decades this tournament has raised money to support charities in Central Florida such as the Boys &amp\; Girls Clubs\, Edgewood Ranch\, The Hubbard House\, and UCP of Central Florida. Kiwanis is an international organization of volunteers in local clubs making a difference in their communities. The mission of Kiwanis is to improve the world\, one child and one community at a time. Kiwanis celebrated its 100th anniversary in 2015.</p>\n
LOCATION:Heathrow Country Club
UID:e.2138.4883
SEQUENCE:3
DTSTAMP:20260425T165323Z
URL:https://business.seminolebusiness.org/events/details/kiwanis-charity-golf-tournament-to-benefit-ucp-of-central-florida-4883
END:VEVENT

END:VCALENDAR
