BEGIN:VCALENDAR
VERSION:2.0
PRODID:-//ChamberMaster//Event Calendar 2.0//EN
METHOD:PUBLISH
X-PUBLISHED-TTL:P3D
REFRESH-INTERVAL:P3D
CALSCALE:GREGORIAN
BEGIN:VEVENT
DTSTART:20180627T183000Z
DTEND:20180627T193000Z
X-MICROSOFT-CDO-ALLDAYEVENT:FALSE
SUMMARY:Know the 10 Warning Signs of Alzheimer's & Dementia
DESCRIPTION:Come out for a complimentary educational program that offers information about early detection. An early diagnosis gives people with Alzheimer's and related dementias the opportunity to make key decisions about treatment and care. This workshop is ideal for anyone who may be concerned about family members. Guest Speaker-Dama Melendez Associate Director of Programs\, Alzheimer's Association\, Central and North Florida Chapter.\n\n\n\nLight refreshments will be served.\n\n\n\n\n\nRSVP to Concierge at 407-322-2207
X-ALT-DESC;FMTTYPE=text/html:Come out for a complimentary educational program that offers information about early detection. An early diagnosis gives people with Alzheimer&#39\;s and related dementias the opportunity to make key decisions about treatment and care. This workshop is ideal for anyone who may be concerned about family members. Guest Speaker-Dama Melendez Associate Director of Programs\, Alzheimer&#39\;s Association\, Central and North Florida Chapter.<br />\n<br />\nLight refreshments will be served.<br />\n<br />\n<br />\nRSVP to Concierge at 407-322-2207
LOCATION:Atria Park of Lake Forest 5433 W. State Rd. 46 Sanford\, FL 32771
UID:e.2138.9445
SEQUENCE:3
DTSTAMP:20260424T083817Z
URL:https://business.seminolebusiness.org/events/details/know-the-10-warning-signs-of-alzheimer-s-dementia-9445
END:VEVENT

END:VCALENDAR
