BEGIN:VCALENDAR
VERSION:2.0
PRODID:-//ChamberMaster//Event Calendar 2.0//EN
METHOD:PUBLISH
X-PUBLISHED-TTL:P3D
REFRESH-INTERVAL:P3D
CALSCALE:GREGORIAN
BEGIN:VEVENT
DTSTART:20180316T153000Z
DTEND:20180316T170000Z
X-MICROSOFT-CDO-ALLDAYEVENT:FALSE
SUMMARY:Know Who You Are Selling To: Monthly GKIC Marketing Meeting
DESCRIPTION:You may learn more about selling at the March GKIC meeting than you've learned in your entire career.  This session goes beyond old-school basics   we'll help you create a buyer persona for your product\, teach you the ins and outs of selling to affluent customers\, and show you how to grow your sales with the help of a little automation.\n\nThere is always something to learn about sales and GKIC has the tools to help you grow this important skill.  Join us at the next GKIC Chapter Meeting on March 15th at 11:30 a.m. EDT.  The session should be done by 12:45 p.m.  Since it is virtual\, please feel free to eat your lunch while you enjoy the discussion.  The cost is free\, but you need to register to get access to it.  (You can call in or do it via computer.)\n\nWhat we will cover:\n\n \n\nYOU GOTTA KNOW WHO YOU ARE SELLING TO\n\nMarket disruption will happen and it might even make your products obsolete. When it happens the only defense might be how well you know your customers. In this session\, you can find out if you really do you know your customer as we walk through the process of developing a buyer persona for your business. I guarantee you 'll have a fresh perspective on selling when you walk out the door.\n\n \n\nLEARNING FROM LUXURY   MARKETING TO THE AFFLUENT\n\nEven if you don't have a luxury product\, you can still learn from companies who market to the affluent. In this session\, you will examine the NO-NOs for the luxury market as well as how to control the selling process when marketing to the affluent. Learn what aspects of selling to the luxury market could apply to your business.\n\n \n\nWAYS TO SCALE YOURSELF IN ORDER TO GROW SALES\n\nThe next best thing to human cloning is automation. We'll show you how you can keep the human touch in your marketing while connecting with customers through automation. We'll discuss tips and tricks for email marketing and offer some advice about chat bots.  Walk away with many new and proven ideas to grow your sales.\n\nBeing an entrepreneur can get lonely\, but GKIC really supports you and gives you a valuable network you can trust. Find out what it's all about at the March GKIC Chapter Meeting. Register today.\n\nTo register for the Free Meeting\, March 16th\, at 11:30 a.m.  CLICK HERE.
X-ALT-DESC;FMTTYPE=text/html:<p>You may learn more about selling at the March GKIC meeting than you&rsquo\;ve learned in your entire career. &nbsp\;This session goes beyond old-school basics &ndash\; we&rsquo\;ll help you create a buyer persona for your product\, teach you the ins and outs of selling to affluent customers\, and show you how to grow your sales with the help of a little automation.</p>\n\n<p>There is always something to learn about sales and GKIC has the tools to help you grow this important skill.&nbsp\; Join us at the next GKIC Chapter Meeting on March 15th at 11:30 a.m. EDT.&nbsp\; The session should be done by 12:45 p.m.&nbsp\; Since it is virtual\, please feel free to eat your lunch while you enjoy the discussion.&nbsp\; The cost is free\, but you need to register to get access to it.&nbsp\; (You can call in or do it via computer.)</p>\n\n<p>What we will cover:</p>\n\n<p style="margin-right: 0in\; margin-left: 1in\;">&nbsp\;</p>\n\n<p style="margin-right: 0in\; margin-left: 1in\;"><strong>YOU GOTTA KNOW WHO YOU ARE SELLING TO</strong></p>\n\n<p style="margin-right: 0in\; margin-left: 1in\;">Market disruption will happen and it might even make your products obsolete. When it happens the only defense might be how well you know your customers. In this session\, you can find out if you really do you know your customer as we walk through the process of developing a buyer persona for your business. I guarantee you &lsquo\;ll have a fresh perspective on selling when you walk out the door.</p>\n\n<p style="margin-right: 0in\; margin-left: 1in\;">&nbsp\;</p>\n\n<p style="margin-left: 1in\;"><strong>LEARNING FROM LUXURY &ndash\; MARKETING TO THE AFFLUENT</strong></p>\n\n<p style="margin-left: 1in\;">Even if you don&rsquo\;t have a luxury product\, you can still learn from companies who market to the affluent. In this session\, you will examine the NO-NOs for the luxury market as well as how to control the selling process when marketing to the affluent. Learn what aspects of selling to the luxury market could apply to your business.</p>\n\n<p style="margin-right: 0in\; margin-left: 1in\;">&nbsp\;</p>\n\n<p style="margin-right: 0in\; margin-left: 1in\;"><strong>WAYS TO SCALE YOURSELF IN ORDER TO GROW SALES</strong></p>\n\n<p style="margin-right: 0in\; margin-left: 1in\;">The next best thing to human cloning is automation. We&rsquo\;ll show you how you can keep the human touch in your marketing while connecting with customers through automation. We&rsquo\;ll discuss tips and tricks for email marketing and offer some advice about chat bots.&nbsp\; Walk away with many new and proven ideas to grow your sales.</p>\n\n<p>Being an entrepreneur can get lonely\, but GKIC really supports you and gives you a valuable network you can trust. Find out what it&rsquo\;s all about at the March GKIC Chapter Meeting.&nbsp\;<a href="http://gkic.safechkout.net/">Register today.</a></p>\n\n<p>To register for the Free Meeting\, March 16th\, at 11:30 a.m.&nbsp\;&nbsp\;<a href="http://gkic.safechkout.net/">CLICK HERE.</a></p>\n\n<p>&nbsp\;</p>\n
LOCATION:This meeting is online\, to register for the Free Meeting\, March 16th\, at 11:30 a.m. CLICK HERE.
UID:e.2138.8787
SEQUENCE:3
DTSTAMP:20260424T132218Z
URL:https://business.seminolebusiness.org/events/details/know-who-you-are-selling-to-monthly-gkic-marketing-meeting-8787
END:VEVENT

END:VCALENDAR
