BEGIN:VCALENDAR
VERSION:2.0
PRODID:-//ChamberMaster//Event Calendar 2.0//EN
METHOD:PUBLISH
X-PUBLISHED-TTL:P3D
REFRESH-INTERVAL:P3D
CALSCALE:GREGORIAN
BEGIN:VEVENT
DTSTART:20161027T220000Z
DTEND:20161028T000000Z
X-MICROSOFT-CDO-ALLDAYEVENT:FALSE
SUMMARY:Koko FitClub Member Appreciation and Open House
DESCRIPTION:
X-ALT-DESC;FMTTYPE=text/html:
LOCATION:1120 Townpark Ave Suite B1012 Lake Mary Fl 32746
UID:e.2138.5738
SEQUENCE:3
DTSTAMP:20260425T165046Z
URL:https://business.seminolebusiness.org/events/details/koko-fitclub-member-appreciation-and-open-house-5738
END:VEVENT

END:VCALENDAR
