BEGIN:VCALENDAR
VERSION:2.0
PRODID:-//ChamberMaster//Event Calendar 2.0//EN
METHOD:PUBLISH
X-PUBLISHED-TTL:P3D
REFRESH-INTERVAL:P3D
CALSCALE:GREGORIAN
BEGIN:VEVENT
DTSTART:20161117T220000Z
DTEND:20161118T000000Z
X-MICROSOFT-CDO-ALLDAYEVENT:FALSE
SUMMARY:Ladies Night Out
DESCRIPTION:Join us at Clothes Mentor for our Ladies Night Out!!!\n\nFood\, Fashion & Fun plus 20% Off Store-wide
X-ALT-DESC;FMTTYPE=text/html:<h3 style="text-align: center\;"><br />\n<strong><span style="font-size:22px\;"><span style="color:#800000\;"><span style="font-family:verdana\;">Join us at Clothes Mentor for our Ladies Night Out!!!</span></span></span></strong></h3>\n\n<h2 style="text-align: center\;"><span style="font-size:22px\;"><span style="color:#800000\;"><span style="font-family:verdana\;"><strong>Food\, Fashion &amp\; Fun plus&nbsp\;</strong></span></span><strong style="font-size: 20px\; font-family: verdana\; color: rgb(128\, 0\, 0)\;">20% Off Store-wide</strong></span></h2>\n\n<h4 style="text-align: center\;">&nbsp\;</h4>\n
LOCATION:Clothes Mentor 1052 Montgomery Road Altamonte Springs\, FL 32714 407-960-3780
UID:e.2138.5751
SEQUENCE:3
DTSTAMP:20260425T150317Z
URL:https://business.seminolebusiness.org/events/details/ladies-night-out-5751
END:VEVENT

END:VCALENDAR
