BEGIN:VCALENDAR
VERSION:2.0
PRODID:-//ChamberMaster//Event Calendar 2.0//EN
METHOD:PUBLISH
X-PUBLISHED-TTL:P3D
REFRESH-INTERVAL:P3D
CALSCALE:GREGORIAN
BEGIN:VEVENT
DTSTART:20181128T164500Z
DTEND:20181128T180000Z
X-MICROSOFT-CDO-ALLDAYEVENT:FALSE
SUMMARY:Ladies of Justice Luncheon
DESCRIPTION:Ladies of Justice Mission Statement  Our Mission is to help improve lives with our services and to provide women the opportunity and environment to build their belief and confidence\, step into their greatness and power\, control their lives\, create choices\, and live a purposeful life.  \n\n \n\n Make a living while making a difference It's not just our slogan\; it's a reality in the Ladies of Justice and with LegalShield.  \n\n \n\nWe are committed to making a difference in our own lives\, in the lives of our members and throughout our community.\n\nJoin us at an upcoming event where you'll learn what a difference LegalShield can make in your life!
X-ALT-DESC;FMTTYPE=text/html:<span style="color: rgb(75\, 0\, 130)\;"><u><strong>Ladies of Justice Mission Statement</strong></u>&nbsp\;</span> <em>Our Mission is to help improve lives with our services and to provide women the opportunity and environment to build their belief and confidence\, step into their greatness and power\, control their lives\, create choices\, and live a purposeful life.&nbsp\;&nbsp\;</em><br />\n&nbsp\;<br />\n&nbsp\;Make a living while making a difference It&rsquo\;s not just our slogan\; it&rsquo\;s a reality in the Ladies of Justice and with LegalShield.&nbsp\;&nbsp\;<br />\n&nbsp\;<br />\nWe are committed to making a difference in our own lives\, in the lives of our members and throughout our community.<br />\nJoin us at an upcoming event where you&rsquo\;ll learn what a difference LegalShield can make in your life!&nbsp\;
LOCATION:F&D Kitchen and Bar 1541 International Parkway Heathrow\, FL 32746
UID:e.2138.14819
SEQUENCE:3
DTSTAMP:20260424T004259Z
URL:https://business.seminolebusiness.org/events/details/ladies-of-justice-luncheon-14819
END:VEVENT

END:VCALENDAR
