BEGIN:VCALENDAR
VERSION:2.0
PRODID:-//ChamberMaster//Event Calendar 2.0//EN
METHOD:PUBLISH
X-PUBLISHED-TTL:P3D
REFRESH-INTERVAL:P3D
CALSCALE:GREGORIAN
BEGIN:VEVENT
DTSTART:20190507T154500Z
DTEND:20190507T170000Z
X-MICROSOFT-CDO-ALLDAYEVENT:FALSE
SUMMARY:Ladies of Justice Luncheon & Spa Event
DESCRIPTION:Act Like Lady Be The Boss\n\n                                A Ladies of Justice Luncheon\n\nJoin us for the Ladies of Justice Empowerment luncheon and Spa Experience. After lunch leave some time for a 10 minute Chair Massage & 10 Minute Salt Room Experience only $10
X-ALT-DESC;FMTTYPE=text/html:<span style="font-size: 20px\;"><strong>&nbsp\; &nbsp\; &nbsp\; &nbsp\; &nbsp\; &nbsp\; &nbsp\; &nbsp\; &nbsp\; &nbsp\; &nbsp\; &nbsp\; &nbsp\; &nbsp\; &nbsp\; &nbsp\; &nbsp\;<span style="color: rgb(128\, 0\, 128)\;"> &nbsp\; Act Like </span></strong><span style="color: rgb(128\, 0\, 128)\;"><span style="font-family: comic sans ms\;">Lady</span></span></span><span style="color: rgb(128\, 0\, 128)\;"> </span><span style="font-size: 20px\;"><span style="color: rgb(128\, 0\, 128)\;"><strong>Be The</strong></span><span style="font-family: comic sans ms\;"><span style="color: rgb(128\, 0\, 128)\;"> Boss<br />\n&nbsp\; &nbsp\; &nbsp\; &nbsp\; &nbsp\; &nbsp\; &nbsp\; &nbsp\; &nbsp\; &nbsp\; &nbsp\; &nbsp\; &nbsp\; &nbsp\; &nbsp\; &nbsp\; A Ladies of Justice Luncheon<br />\nJoin us for the Ladies of Justice Empowerment luncheon and Spa Experience. After lunch leave some time for a 10 minute Chair Massage &amp\; 10 Minute Salt Room Experience only $10</span></span></span>
LOCATION:Bungalow Retreat Restaurant & Spa 1109 International Pkwy Suite 1651 Lake Mary Fl 32746
UID:e.2138.15155
SEQUENCE:3
DTSTAMP:20260422T081334Z
URL:https://business.seminolebusiness.org/events/details/ladies-of-justice-luncheon-spa-event-15155
END:VEVENT

END:VCALENDAR
