BEGIN:VCALENDAR
VERSION:2.0
PRODID:-//ChamberMaster//Event Calendar 2.0//EN
METHOD:PUBLISH
X-PUBLISHED-TTL:P3D
REFRESH-INTERVAL:P3D
CALSCALE:GREGORIAN
BEGIN:VEVENT
DTSTART:20180318T150000Z
DTEND:20180318T180000Z
X-MICROSOFT-CDO-ALLDAYEVENT:FALSE
SUMMARY:Lake Mary Car Show
DESCRIPTION:The Lake Mary Car Show features upwards of 100 cars of all types on display! Whether you enjoy the classics or prefer the modern cars\, you won't be disappointed in the wide variety of the automobiles that participate! Come out and enjoy the afternoon cruisin' the streets while listening to some live DJ entertainment!\n\n\n\nPlease contact Jessica Hodgins for Sponsorship Opportunities at jhodgins@lakemaryfl.com or 407.585.1421.
X-ALT-DESC;FMTTYPE=text/html:<span style="color:rgb(75\, 79\, 86)\; font-family:helvetica\,arial\,sans-serif\; font-size:14px">The Lake Mary Car Show features upwards of 100 cars of all types on display! Whether you enjoy the classics or prefer the modern cars\, you won&#39\;t be disappointed in the wide variety of the automobiles that participate! Come out and enjoy the afternoon cruisin&#39\; the streets while listening to some live DJ entertainment!</span><br />\n<br />\n<span style="font-size:14px"><span style="font-family:arial\,sans-serif">Please contact&nbsp\;</span><strong><span style="font-family:arial\,sans-serif">Jessica Hodgins</span></strong>&nbsp\;for Sponsorship Opportunities at&nbsp\;<strong><span style="font-family:arial\,sans-serif">jhodgins@lakemaryfl.com</span></strong>&nbsp\;or&nbsp\;<strong><span style="font-family:arial\,sans-serif">407.585.1421</span></strong>.</span><br />\n&nbsp\;
LOCATION:Central Park by Lake Mary City Hall 100 N. Country Club Road Lake Mary\, FL 32746 (On the corner of Lake Mary Blvd. & 4th Street)
UID:e.2138.8698
SEQUENCE:3
DTSTAMP:20260424T130537Z
URL:https://business.seminolebusiness.org/events/details/lake-mary-car-show-03-18-2018-8698
END:VEVENT

END:VCALENDAR
