BEGIN:VCALENDAR
VERSION:2.0
PRODID:-//ChamberMaster//Event Calendar 2.0//EN
METHOD:PUBLISH
X-PUBLISHED-TTL:P3D
REFRESH-INTERVAL:P3D
CALSCALE:GREGORIAN
BEGIN:VEVENT
DTSTART:20161105T110000Z
DTEND:20161105T140000Z
X-MICROSOFT-CDO-ALLDAYEVENT:FALSE
SUMMARY:Lake Scary 5k to Benefit UCP of Central Florida
DESCRIPTION:The Lake Scary 5K run/walk for cerebral palsy is an event held in Lake Mary Preparatory School\, Florida to benefit children and families who deal with disabilities by providing support in developing services and therapies.  The first Lake Scary 5K was created   founded by Lake Mary Prep School students Martin and Adrian Konstantinov \, and Ben and Theo Juliano. 100% of the proceeds goes to UCP of Central Florida!
X-ALT-DESC;FMTTYPE=text/html:<span style="font-size:12px"><span style="font-family:arial\,helvetica\,sans-serif"><span style="color:rgb(34\, 34\, 34)">The Lake Scary 5K run/walk for cerebral palsy&nbsp\;is an event held in&nbsp\;Lake Mary Preparatory School\, Florida&nbsp\;to benefit children and families who deal with disabilities&nbsp\;by&nbsp\;providing support in developing services and therapies.&nbsp\;&nbsp\;The first Lake Scary 5K was created &ndash\; founded by Lake Mary Prep School students Martin and Adrian Konstantinov \, and Ben and Theo Juliano. 100% of the proceeds&nbsp\;goes to UCP of Central Florida!</span></span></span>
LOCATION:Lake Mary Preparatory School 650 Rantoul Ln Lake Mary\, FL 32746
UID:e.2138.4884
SEQUENCE:3
DTSTAMP:20260425T150714Z
URL:https://business.seminolebusiness.org/events/details/lake-scary-5k-to-benefit-ucp-of-central-florida-4884
END:VEVENT

END:VCALENDAR
