BEGIN:VCALENDAR
VERSION:2.0
PRODID:-//ChamberMaster//Event Calendar 2.0//EN
METHOD:PUBLISH
X-PUBLISHED-TTL:P3D
REFRESH-INTERVAL:P3D
CALSCALE:GREGORIAN
BEGIN:VEVENT
DTSTART:20180816T190000Z
DTEND:20180816T220000Z
X-MICROSOFT-CDO-ALLDAYEVENT:FALSE
SUMMARY:Latest Trends in Asset Protection: Domestic Asset Protection Methods\, Crypto-Currencies\, and Foreign Trusts
DESCRIPTION:Attorneys Gary A. Forster and Eric C. Boughman from the law firm of Forster Boughman Lefkowitz & Lowe\, present their seminar on "Latest Trends in Asset Protection:  Domestic Asset Protection Methods\, Crypto-Currencies\, and Foreign Trusts" to the FICPA Central Florida Chapter.
X-ALT-DESC;FMTTYPE=text/html:Attorneys Gary A. Forster and Eric C. Boughman from the law firm of Forster Boughman Lefkowitz &amp\; Lowe\, present their seminar on &ldquo\;Latest Trends in Asset Protection:&nbsp\; Domestic Asset Protection Methods\, Crypto-Currencies\, and Foreign Trusts&rdquo\; to the FICPA Central Florida Chapter.&nbsp\;
LOCATION:Doubletree Hotel 60 South Ivanhoe Boulevard Orlando\, FL 32804
UID:e.2138.9571
SEQUENCE:3
DTSTAMP:20260424T052936Z
URL:https://business.seminolebusiness.org/events/details/latest-trends-in-asset-protection-domestic-asset-protection-methods-crypto-currencies-and-foreign-trusts-9571
END:VEVENT

END:VCALENDAR
