BEGIN:VCALENDAR
VERSION:2.0
PRODID:-//ChamberMaster//Event Calendar 2.0//EN
METHOD:PUBLISH
X-PUBLISHED-TTL:P3D
REFRESH-INTERVAL:P3D
CALSCALE:GREGORIAN
BEGIN:VEVENT
DTSTART:20181103T170000Z
DTEND:20181103T190000Z
X-MICROSOFT-CDO-ALLDAYEVENT:FALSE
SUMMARY:LAUNCH PARTY!!!
DESCRIPTION:Saddle Up Seminole Chamber Members for my 5 bed / 2.5 bath\, 3\,200 sq. ft Ranch Style Home on 5+ Acres in the ONE-OF-A-KIND\, fully paved\, Gated Equestrian Community of Eagle Rock Ranch!!\n\n\nhttp://www.myvisuallistings.com/cvt/272171\n\n\n\nIf this home isn't for you\, please share with all of your friends/family/coworkers and maybe they'll let you come over for some horseback riding fun to thank you ????
X-ALT-DESC;FMTTYPE=text/html:<p><span style="font-size: 14px\;">Saddle Up Seminole Chamber Members for my 5 bed / 2.5 bath\, 3\,200 sq. ft Ranch Style Home on 5+ Acres in the ONE-OF-A-KIND\, fully paved\, Gated Equestrian Community of Eagle Rock Ranch!!</span></p>\n\n<div>\n<p><span style="font-size: 14px\;"><a href="http://www.myvisuallistings.com/cvt/272171">http://www.myvisuallistings.com/cvt/272171</a><br />\n<br />\nIf this home isn&#39\;t for you\, please share with all of your friends/family/coworkers and maybe they&#39\;ll let you come over for some horseback riding fun to thank you&nbsp\;<span style="font-family: inherit\;"><span style="color: transparent\; font-family: inherit\;">??</span></span><span style="font-family: inherit\;"><span style="color: transparent\; font-family: inherit\;">??</span></span></span></p>\n</div>\n
LOCATION:31 Winchester Road Ormond Beach\, FL 32174
UID:e.2138.14801
SEQUENCE:3
DTSTAMP:20260424T003727Z
URL:https://business.seminolebusiness.org/events/details/launch-party-14801
END:VEVENT

END:VCALENDAR
