BEGIN:VCALENDAR
VERSION:2.0
PRODID:-//ChamberMaster//Event Calendar 2.0//EN
METHOD:PUBLISH
X-PUBLISHED-TTL:P3D
REFRESH-INTERVAL:P3D
CALSCALE:GREGORIAN
BEGIN:VEVENT
DTSTART:20161030T010000Z
DTEND:20161030T050000Z
X-MICROSOFT-CDO-ALLDAYEVENT:FALSE
SUMMARY:Lazy Gator Halloween Party
DESCRIPTION:Costume Contest & Prizes!!!\n\n\n\n1st place will receive a 1 night stay at Marriott Lake Mary including breakfast and 2 airboat rides\n\n2nd place will receive a $100 bar tab and 4 airboat rides\n\n3rd place will receive a ride-a-long with a Seminole County Sheriff\n\n\n\nWe will have spooky cocktails\, specials & live music!!!
X-ALT-DESC;FMTTYPE=text/html:<strong><span style="font-size:16px\;">Costume Contest &amp\; Prizes!!!</span></strong><br />\n<br />\n<strong>1st</strong> place will receive a 1 night stay at Marriott Lake Mary including breakfast and 2 airboat rides<br />\n<strong>2nd </strong>place will receive a $100 bar tab and 4 airboat rides<br />\n<strong>3rd</strong> place will receive a ride-a-long with a Seminole County Sheriff<br />\n<br />\nWe will have spooky cocktails\, specials &amp\; live music!!!<br />\n&nbsp\;
LOCATION:Lazy Gator 2356 Black Hammock Fish Camp Road Oviedo\, FL 32765
UID:e.2138.5721
SEQUENCE:3
DTSTAMP:20260425T164725Z
URL:https://business.seminolebusiness.org/events/details/lazy-gator-halloween-party-5721
END:VEVENT

END:VCALENDAR
