BEGIN:VCALENDAR
VERSION:2.0
PRODID:-//ChamberMaster//Event Calendar 2.0//EN
METHOD:PUBLISH
X-PUBLISHED-TTL:P3D
REFRESH-INTERVAL:P3D
CALSCALE:GREGORIAN
BEGIN:VEVENT
DTSTART:20160426T123000Z
DTEND:20160426T140000Z
X-MICROSOFT-CDO-ALLDAYEVENT:FALSE
SUMMARY:Leadership Incite Roundtable: Find More\, Close More (No Cost)
DESCRIPTION:You are invited to attend a complimentary Leadership Incite Roundtable on April 26 at the UCF Incubator in Winter Springs. This 90 minute session is valued at $750. For this date and location only\, there is no charge!\n\n\n \n\nWhat is Leadership Incite Roundtable?\n\nThis is a professionally facilitated\, business coaching and leadership development program specifically designed for entrepreneurs and small businesses who want to drive sales and revenue.  It is a small group setting limited to 12 professionals.\n\n \n\nThe April 26th session is focused on Strategic Networking: Find More\, Close More and Make More Money!\n\n\n\n	The regular monthly fee is $99 per member. ($79 for chamber members)\n	Membership is limited to 12 professionals per roundtable group.\n\nCurrent Locations/ Dates are as follows:\n\n\n\n(1) Meets the 4th Tuesday of every month at the UCF Incubator\, Winter SpringsFL @ 8:30am-10:00am\n\n(2) Meets the 1st Wednesday of every month at BlackRan Partners\, Lake MaryFL @ 5:00pm - 6:30pm\n\n \n\nEnroll by contacting BlackRain Partners info@blackrainpartners.com \n\n407.367.0883\n\nwww.leadershipinciteroundtable.com
X-ALT-DESC;FMTTYPE=text/html:<span style="font-size:12px"><span style="font-family:arial\,helvetica\,sans-serif">You are invited to attend a complimentary <strong>Leadership Incite Roundtable</strong> on <span style="background-color:#FFFF00">April 26 </span>at the UCF Incubator in Winter Springs. This 90 minute session is valued at $750. For this date and location only\, there is no charge!</span></span>\n\n<div>\n<div>&nbsp\;</div>\n\n<div><span style="font-size:12px"><span style="font-family:arial\,helvetica\,sans-serif"><strong>What is Leadership Incite Roundtable?</strong><br />\n<span style="background-color:rgb(250\, 250\, 250)\; color:rgb(66\, 66\, 66)">This is a professionally facilitated\, business coaching and leadership&nbsp\;development program specifically designed</span>&nbsp\;for entrepreneurs and small businesses <span style="color:#FF0000">who want to drive sales and revenue.</span> &nbsp\;It is a small group setting limited to 12 professionals.</span></span></div>\n\n<div>&nbsp\;</div>\n\n<div><span style="font-size:12px"><span style="font-family:arial\,helvetica\,sans-serif">The April 26th session is focused on<strong>&nbsp\;<span style="color:#0000FF">Strategic Networking: Find More\, Close More and Make More Money!</span></strong></span></span></div>\n</div>\n\n<ul>\n	<li><span style="font-size:12px"><span style="font-family:arial\,helvetica\,sans-serif">The regular monthly fee is&nbsp\;<strong>$99</strong>&nbsp\;per member. ($79 for chamber members)</span></span></li>\n	<li><span style="font-size:12px"><span style="font-family:arial\,helvetica\,sans-serif">Membership is limited to 12 professionals per roundtable group.</span></span></li>\n</ul>\n<span style="font-size:12px"><span style="font-family:arial\,helvetica\,sans-serif"><strong>Current Locations/ Dates are as follows:</strong><br />\n<br />\n<span style="background-color:rgb(250\, 250\, 250)\; color:rgb(66\, 66\, 66)">(1) Meets the&nbsp\;</span><strong>4th Tuesday of every month</strong><span style="background-color:rgb(250\, 250\, 250)\; color:rgb(66\, 66\, 66)">&nbsp\;at the UCF Incubator\,&nbsp\;</span><u>Winter </u><u>Springs</u><span style="background-color:rgb(250\, 250\, 250)\; color:rgb(66\, 66\, 66)">FL</span><span style="background-color:rgb(250\, 250\, 250)\; color:rgb(66\, 66\, 66)"> @</span><strong>&nbsp\;8:30am-10:00am</strong><br />\n<span style="background-color:rgb(250\, 250\, 250)\; color:rgb(66\, 66\, 66)">(2) Meets the&nbsp\;</span><strong>1st Wednesday of every month</strong><span style="background-color:rgb(250\, 250\, 250)\; color:rgb(66\, 66\, 66)">&nbsp\;at BlackRan Partners\,&nbsp\;</span><u>Lake </u><u>Mary</u><span style="background-color:rgb(250\, 250\, 250)\; color:rgb(66\, 66\, 66)">FL</span><span style="background-color:rgb(250\, 250\, 250)\; color:rgb(66\, 66\, 66)"> @&nbsp\;</span><strong>5:00pm - 6:30pm</strong><br />\n<span style="background-color:rgb(250\, 250\, 250)\; color:rgb(66\, 66\, 66)">&nbsp\;</span><br />\n<strong>Enroll by contacting&nbsp\;BlackRain Partners&nbsp\;</strong><strong>info@blackrainpartners.com&nbsp\;</strong><br />\n<strong>407.367.0883</strong></span></span><br />\n<a href="http://www.leadershipinciteroundtable.com/" style="color: rgb(43\, 104\, 147)\; font-size: 12px\; outline: 0px\; margin: 0px\; padding: 0px\; border: 0px\; vertical-align: baseline\; background-color: transparent\; text-decoration: none\; font-family: Arial\, Helvetica\, sans-serif\;">www.leadershipinciteroundtable.com</a><span style="font-size:12px"><span style="font-family:arial\,helvetica\,sans-serif"><strong>&nbsp\;</strong></span></span>
LOCATION:UCF Incubator\, Winter Springs
UID:e.2138.4401
SEQUENCE:3
DTSTAMP:20260426T013853Z
URL:https://business.seminolebusiness.org/events/details/leadership-incite-roundtable-find-more-close-more-no-cost-04-26-2016-4401
END:VEVENT

END:VCALENDAR
