BEGIN:VCALENDAR
VERSION:2.0
PRODID:-//ChamberMaster//Event Calendar 2.0//EN
METHOD:PUBLISH
X-PUBLISHED-TTL:P3D
REFRESH-INTERVAL:P3D
CALSCALE:GREGORIAN
BEGIN:VEVENT
DTSTART:20160504T210000Z
DTEND:20160504T223000Z
X-MICROSOFT-CDO-ALLDAYEVENT:FALSE
SUMMARY:Leadership Incite Roundtable: Find More\, Close More (No Cost)
DESCRIPTION:This first Lake Mary session on May 4th is complimentary - free\, no charge\, no cost!\n\n\n\nStrategic Networking: Find More\, Close More (and Make More Money).\n\n\n\nValued at $750\, this program uses the same materials and expertise for our larger\, corporate clients at a fraction of the cost. This is a professionally facilitated\, business coaching and leadership development program is designed for entrepreneurs\, small businesses and individual professionals. (You asked\, we listened!). Limited to 12 attendee's.\n\n\n\nRegister by emailing info@blackrainpartners.com or calling 407.367.0883.\n\nProgram begins promptly at 5pm and ends at 6:30pm.
X-ALT-DESC;FMTTYPE=text/html:<span style="color:#000000"><span style="font-family:helvetica\,arial\,sans-serif\; font-size:14px">This first Lake Mary session on May 4th is complimentary - free\, no charge\, no cost!</span><br />\n<br />\n<span style="font-family:helvetica\,arial\,sans-serif\; font-size:14px">Strategic Networking: Find More\, Close More (and Make More Money).</span><br />\n<br />\n<span style="font-family:helvetica\,arial\,sans-serif\; font-size:14px">Valued at $750\, this program uses the same materials and expertise for our larger\, corporate clients at a fraction of the cost. This is a professionally facilitated\, business coaching and leadership development program is designed for entrepreneurs\, small businesses and individual professionals. (You asked\, we listened!). Limited to 12 attendee&#39\;s.</span><br />\n<br />\n<span style="font-family:helvetica\,arial\,sans-serif\; font-size:14px">Register by emailing info@blackrainpartners.com or calling 407.367.0883.<br />\nProgram begins promptly at 5pm and ends at 6:30pm.</span></span>
LOCATION:BlackRain Partners\, 145 Middle Street Suite 1111\, Lake Mary FL 32746
UID:e.2138.4446
SEQUENCE:3
DTSTAMP:20260426T000923Z
URL:https://business.seminolebusiness.org/events/details/leadership-incite-roundtable-find-more-close-more-no-cost-05-04-2016-4446
END:VEVENT

END:VCALENDAR
