BEGIN:VCALENDAR
VERSION:2.0
PRODID:-//ChamberMaster//Event Calendar 2.0//EN
METHOD:PUBLISH
X-PUBLISHED-TTL:P3D
REFRESH-INTERVAL:P3D
CALSCALE:GREGORIAN
BEGIN:VEVENT
DTSTART:20160518T120000Z
DTEND:20160518T155500Z
X-MICROSOFT-CDO-ALLDAYEVENT:FALSE
SUMMARY:Leadership Incite Summit - Increase Sales!
DESCRIPTION:Growing a business can be tough on your wallet!\n\nLearn practical solutions for growth (Increase Sales) at our half day summit for only $49. ($39 for chamber members).\n\n\n\n \n\n\n\nDesigned for entrepreneurs\, small businesses and individual professionals\, this must-attend event will feature speakers and sponsors who will weigh in on a variety of topics from Driving Sales and Revenue and Delivering Excellent Customer Service\, to Understanding Personality Styles and the 5 Generations as well as Avoiding Common Payroll\, Accounting and Tax Mistakes and the importance of a Maintaining a Healthy Office.\n\n\n\n \n\n\n\nYou will NOT be bored at this half day summit!\n\n\n\n \n\n\n\nThe evet begins at 8am sharp and ends prompty at noon. \n\n\n\nContinental breakfast will be served.\n\n\n\n \n\n\n\nSponsors: OBJ\, KEM Business Solutions\, Paychex and Synergy Oviedo Chiropractic.
X-ALT-DESC;FMTTYPE=text/html:<div>\n<div><span style="color:#000000">Growing a business can be tough on your wallet!</span><br />\n<span style="color:#0000FF">Learn practical solutions for growth (Increase Sales) at our half day summit for only $49</span><span style="color:#000000">. ($39 for chamber members).</span></div>\n</div>\n\n<div>\n<div>&nbsp\;</div>\n</div>\n\n<div>\n<div><span style="color:#000000">Designed for entrepreneurs\, small businesses and individual professionals\, this must-attend event will feature speakers and sponsors who will weigh in on a variety of topics from Driving Sales and Revenue and Delivering Excellent Customer Service\, to Understanding Personality Styles and the 5 Generations as well as Avoiding Common Payroll\, Accounting and Tax Mistakes and the importance of a Maintaining a Healthy Office.</span></div>\n</div>\n\n<div>\n<div>&nbsp\;</div>\n</div>\n\n<div>\n<div><span style="color:#B22222">You will NOT be bored at this half day summit!</span></div>\n</div>\n\n<div>\n<div>&nbsp\;</div>\n</div>\n\n<div>\n<div><span style="color:#000000">The evet begins at 8am sharp and ends prompty at noon. </span></div>\n</div>\n\n<div>\n<div><span style="color:#000000">Continental breakfast will be served.</span></div>\n</div>\n\n<div>\n<div>&nbsp\;</div>\n</div>\n\n<div>\n<div><span style="color:#000000">Sponsors: OBJ\, KEM Business Solutions\, Paychex and Synergy Oviedo Chiropractic.</span></div>\n</div>\n
LOCATION:Winter Park Community Center
UID:e.2138.4447
SEQUENCE:3
DTSTAMP:20260426T000842Z
URL:https://business.seminolebusiness.org/events/details/leadership-incite-summit-increase-sales-05-18-2016-4447
END:VEVENT

END:VCALENDAR
