BEGIN:VCALENDAR
VERSION:2.0
PRODID:-//ChamberMaster//Event Calendar 2.0//EN
METHOD:PUBLISH
X-PUBLISHED-TTL:P3D
REFRESH-INTERVAL:P3D
CALSCALE:GREGORIAN
BEGIN:VEVENT
DTSTART:20160712T123000Z
DTEND:20160712T140000Z
X-MICROSOFT-CDO-ALLDAYEVENT:FALSE
SUMMARY:Lean Startup - A Method to Grow Your Business
DESCRIPTION:Whether you are a start-up needing to vet a new product or an existing business looking to expand\, the Lean StartUp methodology can assist you in the process. Lean StartUp will help answer the question\, "Can a sustainable business be built around this set of products and services?" With a known answer\, you can move on to identify your customer before you build or expand. To learn more about this process method\, come listen to our experts!\n\n\n\nRegistration starts at 8:15 am\n\nClick here to register
X-ALT-DESC;FMTTYPE=text/html:<span style="color:black"><span style="font-family:century gothic\,sans-serif">Whether you are a start-up needing to vet a new product or an existing business looking to expand\, the Lean StartUp methodology can assist you in the process. Lean StartUp will help answer the question\, &quot\;Can a sustainable business be built around this set of products and services?&quot\; With a known answer\, you can move on to identify your customer before you build or expand. To learn more about this process method\, come listen to our experts!</span></span><br />\n<br />\n<span style="color:black"><span style="font-family:century gothic\,sans-serif">Registration starts at 8:15 am</span></span><br />\n<span style="color:black"><span style="font-family:century gothic\,sans-serif"><span style="font-size:12.0pt"><a href="http://r20.rs6.net/tn.jsp?f=001otpSy06juLBXaxlF_2pYBP5TqlXAAiMDh5z-pq_T8O6jJkkA7TJ8i6T_wkcNVOWCdg_8fnvTAuRmTjiW9FbYx4olZ17tluT_8_9e4qvCVjeuXkKOgsjI1ZOAtcGKBPUj1dTm0Vcxhk2FvZt6XTMKB2NC0Z0v_LtsRr4ndo17IeAD99PpfhnSd28upKMUw_xqYBg8_Thg5DIIAXnA5uQ_-S_1ja02n-Xq&amp\;c=HOGgf7dvP2QNLlleR0PBB0Fx4MfQxnZIeAqnwWgKBv9RUbYPmqn2yQ==&amp\;ch=lcxXJ1cdTalIpqPY6kJy7nLfLamjzs79qY-w-_pQFA8kkM-RHlGwMA==" target="_blank"><span style="color:#D11242">Click here to register</span></a></span></span></span>
LOCATION:All workshops held at the Florida SBDC at UCF\, located at the National Entrepreneur Center inside the Orlando Fashion Square Mall. 3201 E. Colonial Drive\, Suite A20 Orlando\, FL 32803
UID:e.2138.4593
SEQUENCE:3
DTSTAMP:20260425T210431Z
URL:https://business.seminolebusiness.org/events/details/lean-startup-a-method-to-grow-your-business-07-12-2016-4593
END:VEVENT

END:VCALENDAR
