BEGIN:VCALENDAR
VERSION:2.0
PRODID:-//ChamberMaster//Event Calendar 2.0//EN
METHOD:PUBLISH
X-PUBLISHED-TTL:P3D
REFRESH-INTERVAL:P3D
CALSCALE:GREGORIAN
BEGIN:VEVENT
DTSTART:20160806T180000Z
DTEND:20160806T200000Z
X-MICROSOFT-CDO-ALLDAYEVENT:FALSE
SUMMARY:Learn then relax! International Adoption Educational Seminar in Daytona
DESCRIPTION:Come learn how you can build your family through international then go relax at the beach for a while!\n\n\n\nWe know that embarking on an adoption journey can be overwhelming\, especially if you are considering international adoption. How do you choose a country? What children are available? What are the risks? Is adoption right for me? Do I even qualify for adoption? \n\n\n\nJoin us as we answer these questions and more to help you start this journey called adoption.
X-ALT-DESC;FMTTYPE=text/html:<span style="color: rgb(0\, 0\, 255)\;">Come learn how you can build your family through international then go relax at the beach for a while!</span><br />\n<br />\n<span style="color: rgb(75\, 79\, 86)\; font-family: helvetica\,arial\,sans-serif\; font-size: 14px\;">We know that embarking on an adoption journey can be overwhelming\, especially if you are considering international adoption. How do you choose a country? What children are available? What are the risks? Is adoption right for me? Do I even qualify for adoption?&nbsp\;</span><br />\n<br />\n<span style="color: rgb(75\, 79\, 86)\; font-family: helvetica\,arial\,sans-serif\; font-size: 14px\;">Join us as we answer these questions and more to help you start this journey called adoption.</span><br />\n<br />\n<br />\n<br />\n&nbsp\;
LOCATION:Daytona Beach City Island Library (Auditorium Room) 105 E. Magnolia Ave. Daytona Beach FL 32114 (386) 257-6036
UID:e.2138.4634
SEQUENCE:3
DTSTAMP:20260425T193009Z
URL:https://business.seminolebusiness.org/events/details/learn-then-relax-international-adoption-educational-seminar-in-daytona-08-06-2016-4634
END:VEVENT

END:VCALENDAR
