BEGIN:VCALENDAR
VERSION:2.0
PRODID:-//ChamberMaster//Event Calendar 2.0//EN
METHOD:PUBLISH
X-PUBLISHED-TTL:P3D
REFRESH-INTERVAL:P3D
CALSCALE:GREGORIAN
BEGIN:VEVENT
DTSTART:20161009T040000Z
DTEND:20161204T050000Z
X-MICROSOFT-CDO-ALLDAYEVENT:FALSE
SUMMARY:Learn to Play Hockey (Fall Session)
DESCRIPTION:The Fall Session of our Learn to Play Hockey Program is for all ages and skill levels! Classes meet weekly for 10 weeks for 45 minutes of instruction.
X-ALT-DESC;FMTTYPE=text/html:The Fall Session of our Learn to Play Hockey Program is for all ages and skill levels! Classes meet weekly for 10 weeks for 45 minutes of instruction.
LOCATION:RDV Sportsplex Ice Den 8701 Maitland Summit Blvd. Orlando\, FL 32810
UID:e.2138.5106
SEQUENCE:3
DTSTAMP:20260425T133325Z
URL:https://business.seminolebusiness.org/events/details/learn-to-play-hockey-fall-session-5106
END:VEVENT

END:VCALENDAR
