BEGIN:VCALENDAR
VERSION:2.0
PRODID:-//ChamberMaster//Event Calendar 2.0//EN
METHOD:PUBLISH
X-PUBLISHED-TTL:P3D
REFRESH-INTERVAL:P3D
CALSCALE:GREGORIAN
BEGIN:VEVENT
DTSTART:20161025T220000Z
DTEND:20161217T175000Z
X-MICROSOFT-CDO-ALLDAYEVENT:FALSE
SUMMARY:Learn to Skate (Fall II Session)
DESCRIPTION:Group ice skating lessons for all ages and skill levels! Classes meet weekly for eight 30 minute lessons followed by 15 minutes of supervised practice time. Learn to Skate Classes are held on Tuesday and Wednesday evenings and Saturday mornings.
X-ALT-DESC;FMTTYPE=text/html:Group ice skating lessons for all ages and skill levels! Classes meet weekly for eight 30 minute lessons followed by 15 minutes of supervised practice time. Learn to Skate Classes are held on Tuesday and Wednesday evenings and Saturday mornings.
LOCATION:RDV Sportsplex Ice Den 8701 Maitland Summit Blvd. Orlando\, FL 32810
UID:e.2138.5107
SEQUENCE:3
DTSTAMP:20260425T132018Z
URL:https://business.seminolebusiness.org/events/details/learn-to-skate-fall-ii-session-5107
END:VEVENT

END:VCALENDAR
