BEGIN:VCALENDAR
VERSION:2.0
PRODID:-//ChamberMaster//Event Calendar 2.0//EN
METHOD:PUBLISH
X-PUBLISHED-TTL:P3D
REFRESH-INTERVAL:P3D
CALSCALE:GREGORIAN
BEGIN:VEVENT
DTSTART:20160321T130000Z
DTEND:20160321T190000Z
X-MICROSOFT-CDO-ALLDAYEVENT:FALSE
SUMMARY:Learn to Skate Spring Break Camp
DESCRIPTION:Skaters of all skill levels are welcome to participate in our Learn to Skate Camp! This daily camp includes Private Class instruction\, Flexibility Class\, On and Off-Ice Games and Supervised Public Skate Time for skaters ages 6 and up! Skaters in our freestyle program ages 7 and up may participate in our Figure Skating camp! Register online at RDVSportsplex.com!
X-ALT-DESC;FMTTYPE=text/html:Skaters of all skill levels are welcome to participate in our Learn to Skate Camp! This daily camp includes Private Class instruction\, Flexibility Class\, On and Off-Ice Games and Supervised Public Skate Time for skaters ages 6 and up! Skaters in our freestyle program ages 7 and up may participate in our Figure Skating camp! Register online at RDVSportsplex.com!
LOCATION:RDV Sportsplex Ice Den - 8701 Maitland Summit Blvd. Orlando\, FL 32810
UID:e.2138.4355
SEQUENCE:3
DTSTAMP:20260426T031203Z
URL:https://business.seminolebusiness.org/events/details/learn-to-skate-spring-break-camp-03-21-2016-4355
END:VEVENT

END:VCALENDAR
