BEGIN:VCALENDAR
VERSION:2.0
PRODID:-//ChamberMaster//Event Calendar 2.0//EN
METHOD:PUBLISH
X-PUBLISHED-TTL:P3D
REFRESH-INTERVAL:P3D
CALSCALE:GREGORIAN
BEGIN:VEVENT
DTSTART:20190104T230000Z
DTEND:20190105T020000Z
X-MICROSOFT-CDO-ALLDAYEVENT:FALSE
SUMMARY:Legends Realty’s Annual Appreciation Event 2019
DESCRIPTION:Legends Realty would like to invite Seminole Chamber members to our 2019 Appreciation Event. Open to our Friends. Colleagues\, past/ future customers and partners to celebrate the year with good food\, drink\, fun and conversation. \n\n\n\nRight in the heart of beautiful downtown Lake Mary. We'll be on the patio area where you can still see all the stunning holiday lights. \n\n\n\nhttps://www.facebook.com/events/259059391428357/ \n\n\n\nRegister on the Facebook site or call me Dan at 407-705-3915 .. Hope to see you there!
X-ALT-DESC;FMTTYPE=text/html:<span style="color: rgb(51\, 51\, 51)\; font-family: arial\,helvetica\,sans-serif\; font-size: 12px\; background-color: transparent\;">Legends Realty would like to invite Seminole Chamber members to our 2019 Appreciation Event. Open to our Friends. Colleagues\, past/ future customers and partners to celebrate the year with good food\, drink\, fun and conversation. </span><br />\n<br />\n<span style="color: rgb(51\, 51\, 51)\; font-family: arial\,helvetica\,sans-serif\; font-size: 12px\; background-color: transparent\;">Right in the heart of beautiful downtown Lake Mary. We&rsquo\;ll be on the patio area where you can still see all the stunning holiday lights.&nbsp\;</span><br />\n<br />\n<span style="color: rgb(51\, 51\, 51)\; font-family: arial\,helvetica\,sans-serif\; font-size: 12px\; background-color: transparent\;"><a href="http://www.facebook.com/events/259059391428357">https://www.facebook.com/events/259059391428357</a>/ </span><br />\n<br />\n<span style="color: rgb(51\, 51\, 51)\; font-family: arial\,helvetica\,sans-serif\; font-size: 12px\; background-color: transparent\;">Register on the Facebook site or call me Dan at 407-705-3915 .. Hope to see you there! </span>
LOCATION:4th Street Bar & Grill 132 N 4th St\, Ste 1200 Lake Mary\, Florida 32746
UID:e.2138.14850
SEQUENCE:3
DTSTAMP:20260423T214403Z
URL:https://business.seminolebusiness.org/events/details/legends-realty-s-annual-appreciation-event-2019-14850
END:VEVENT

END:VCALENDAR
