BEGIN:VCALENDAR
VERSION:2.0
PRODID:-//ChamberMaster//Event Calendar 2.0//EN
METHOD:PUBLISH
X-PUBLISHED-TTL:P3D
REFRESH-INTERVAL:P3D
CALSCALE:GREGORIAN
BEGIN:VEVENT
DTSTART:20160818T220000Z
DTEND:20160818T233000Z
X-MICROSOFT-CDO-ALLDAYEVENT:FALSE
SUMMARY:Let's Kick Asthma: Educational Support Group
DESCRIPTION:The Florida Department of Health in Seminole County and Tobacco Free Seminole will host the Let's Kick Asthma Educational Support Group meeting. The group talk about asthma and how to control the symptoms. \nAlthough the group do not offer medical advice\, they do bring in healthcare professionals to share information on how to live and breathe better with the condition.
X-ALT-DESC;FMTTYPE=text/html:<p><span style="color:rgb(31\, 73\, 125)\; font-family:calibri\,serif\; font-size:11pt">The Florida Department of Health in Seminole County and Tobacco Free Seminole will host&nbsp\;the Let&rsquo\;s Kick Asthma Educational Support Group meeting.&nbsp\;The group&nbsp\;talk about asthma and how to control the symptoms. </span></p>\n<span style="color:rgb(31\, 73\, 125)\; font-family:calibri\,serif\; font-size:11pt">Although&nbsp\;the group&nbsp\;do not offer medical advice\,&nbsp\;they do bring in healthcare professionals to share information on how to live and breathe better with the condition.</span>&nbsp\;
LOCATION:Florida Department of Health in Seminole County Room: Auditorium Address: 400 W. Airport Blvd.\, Sanford\, FL 32773
UID:e.2138.4753
SEQUENCE:3
DTSTAMP:20260425T192717Z
URL:https://business.seminolebusiness.org/events/details/let-s-kick-asthma-educational-support-group-08-18-2016-4753
END:VEVENT

END:VCALENDAR
