BEGIN:VCALENDAR
VERSION:2.0
PRODID:-//ChamberMaster//Event Calendar 2.0//EN
METHOD:PUBLISH
X-PUBLISHED-TTL:P3D
REFRESH-INTERVAL:P3D
CALSCALE:GREGORIAN
BEGIN:VEVENT
DTSTART:20160831T190000Z
DTEND:20160831T210000Z
X-MICROSOFT-CDO-ALLDAYEVENT:FALSE
SUMMARY:Liberty Tax Ice Cream Social
DESCRIPTION:Summer is still here stop by and cool off with some Ice Cream.\n\nAll are welcome!
X-ALT-DESC;FMTTYPE=text/html:<span style="color:rgb(64\, 63\, 66)\; font-family:arial\,verdana\,helvetica\,sans-serif\; font-size:14px">Summer is still here stop by and cool off with some Ice Cream.<br />\nAll are welcome!</span>
LOCATION:Liberty Tax Service Lake Mary 3801 W. Lake Mary Blvd.\, Unit 173 Lake Mary\, FL 32746 located next to Home Goods & TJ Maxx
UID:e.2138.4808
SEQUENCE:3
DTSTAMP:20260425T193638Z
URL:https://business.seminolebusiness.org/events/details/liberty-tax-ice-cream-social-08-31-2016-4808
END:VEVENT

END:VCALENDAR
