BEGIN:VCALENDAR
VERSION:2.0
PRODID:-//ChamberMaster//Event Calendar 2.0//EN
METHOD:PUBLISH
X-PUBLISHED-TTL:P3D
REFRESH-INTERVAL:P3D
CALSCALE:GREGORIAN
BEGIN:VEVENT
DTSTART:20170102T140000Z
DTEND:20170106T220000Z
X-MICROSOFT-CDO-ALLDAYEVENT:FALSE
SUMMARY:Liberty Tax School - Tax Preparer
DESCRIPTION:TUITION-FREE TAX SCHOOL* RAPID CLASS (1) WEEK\n\n\n\nBecome a Tax Professional\n\nIt's back-to-tax-school time at Liberty Tax Service! Take our tuition-free tax class and learn how to prepare taxes for yourself and others. Life changes\, like buying or selling a house\, have tax implications\, and we'll teach you what you need to know. No prior tax experience is necessary. Students have the opportunity to earn extra income as a tax preparer.\n\n\n\nOpportunity to earn extra income after taking course.\n\nFlexible schedules\, convenient locations. \n\nRegister now! Courses start September 12\, day and evening classes \n\nLiberty Tax Service\n\n\n\n*Small fee for books and supplies
X-ALT-DESC;FMTTYPE=text/html:<strong><span style="background-color:rgb(250\, 250\, 250)\; font-family:arial\,helvetica\,sans-serif\; font-size:12px">TUITION-FREE TAX SCHOOL* RAPID CLASS (1) WEEK</span></strong><br />\n<br />\n<span style="background-color:rgb(250\, 250\, 250)\; font-family:arial\,helvetica\,sans-serif\; font-size:12px">Become a Tax Professional</span><br />\n<span style="background-color:rgb(250\, 250\, 250)\; font-family:arial\,helvetica\,sans-serif\; font-size:12px">It&#39\;s back-to-tax-school time at Liberty Tax Service! Take our tuition-free tax class and learn how to prepare taxes for yourself and others. Life changes\, like buying or selling a house\, have tax implications\, and we&rsquo\;ll teach you what you need to know. No prior tax experience is necessary. Students have the opportunity to earn extra income as a tax preparer.</span><br />\n<br />\n<span style="background-color:rgb(250\, 250\, 250)\; font-family:arial\,helvetica\,sans-serif\; font-size:12px">Opportunity to earn extra income after taking course.</span><br />\n<span style="background-color:rgb(250\, 250\, 250)\; font-family:arial\,helvetica\,sans-serif\; font-size:12px">Flexible schedules\, convenient locations.&nbsp\;</span><br />\n<span style="background-color:rgb(250\, 250\, 250)\; font-family:arial\,helvetica\,sans-serif\; font-size:12px">Register now! Courses start September 12\, day and evening classes&nbsp\;</span><br />\n<span style="background-color:rgb(250\, 250\, 250)\; font-family:arial\,helvetica\,sans-serif\; font-size:12px">Liberty Tax Service</span><br />\n<br />\n<span style="background-color:rgb(250\, 250\, 250)\; font-family:arial\,helvetica\,sans-serif\; font-size:12px">*</span><span style="font-family:arial\,helvetica\,sans-serif\; font-size:11px">Small fee for books and supplies</span>
LOCATION:Liberty Tax Lake Mary 3801 W. Lake Mary Blvd.\, #173 Lake Mary\, FL 32746 Located near Home Goods & TJ Maxx
UID:e.2138.5742
SEQUENCE:3
DTSTAMP:20260423T164226Z
URL:https://business.seminolebusiness.org/events/details/liberty-tax-school-tax-preparer-5742
END:VEVENT

END:VCALENDAR
