BEGIN:VCALENDAR
VERSION:2.0
PRODID:-//ChamberMaster//Event Calendar 2.0//EN
METHOD:PUBLISH
X-PUBLISHED-TTL:P3D
REFRESH-INTERVAL:P3D
CALSCALE:GREGORIAN
BEGIN:VEVENT
DTSTART:20180102T140000Z
DTEND:20180102T190000Z
X-MICROSOFT-CDO-ALLDAYEVENT:FALSE
SUMMARY:Liberty Tax Service Rapid Tax Class
DESCRIPTION:Our tuition free tax class teaches you everything you need to know to begin preparing taxes. Our curriculum is up to date with all of the newest tax laws and our experienced instructors will show you the ins and outs of basic tax preparation. Whether your goal is to work with us or for yourself we have the tools to help you succeed. Call now to enroll or email lmmanager@libertytax.com for more information.
X-ALT-DESC;FMTTYPE=text/html:<span style="font-family:arial\,verdana\,helvetica\,sans-serif\; font-size:12px">&nbsp\;</span><span style="background-color:rgb(255\, 255\, 255)\; color:rgb(51\, 51\, 51)\; font-family:sans-serif\,arial\,verdana\,trebuchet ms\; font-size:13px">Our tuition free tax class teaches you everything you need to know to begin preparing taxes. Our curriculum is up to date with all of the newest tax laws and our experienced instructors will show you the ins and outs of basic tax preparation. Whether your goal is to work with us or for yourself we have the tools to help you succeed.&nbsp\;</span>Call now to enroll or email lmmanager@libertytax.com for more information.&nbsp\;
LOCATION:1911 S. French Ave Sanford\, FL 32771 and 3801 W. Lake Mary Blvd. Unit 173 Lake Mary\, FL 32746
UID:e.2138.8631
SEQUENCE:3
DTSTAMP:20260424T094330Z
URL:https://business.seminolebusiness.org/events/details/liberty-tax-service-rapid-tax-class-8631
END:VEVENT

END:VCALENDAR
