BEGIN:VCALENDAR
VERSION:2.0
PRODID:-//ChamberMaster//Event Calendar 2.0//EN
METHOD:PUBLISH
X-PUBLISHED-TTL:P3D
REFRESH-INTERVAL:P3D
CALSCALE:GREGORIAN
BEGIN:VEVENT
DTSTART:20181211T183000Z
DTEND:20181211T193000Z
X-MICROSOFT-CDO-ALLDAYEVENT:FALSE
SUMMARY:Life Is In The Blood- Get & Stay Healthy from the inside out in as little as 8-minutes a day. Increase your Energy & be ready for the Holiday Season!
DESCRIPTION:Learn about a medical device that can improve your Life by increasing general Blood Flow:\n\n	Enhance Athletic Performance\n	Enhance Endurance\n	Enhance Cardiac Function\n	Improve Strength-Energy-Recovery\n	Reduce Inflammation\n	Stress Reduction & Relaxation\n	Improve Concentration & Mental Acuity\n	Sleep Management\n	FDA registered device\n	NASA Collaboration
X-ALT-DESC;FMTTYPE=text/html:Learn about a medical device that can improve your Life by increasing general Blood Flow:\n<ul>\n	<li>Enhance Athletic Performance</li>\n	<li>Enhance Endurance</li>\n	<li>Enhance Cardiac Function</li>\n	<li>Improve Strength-Energy-Recovery</li>\n	<li>Reduce Inflammation</li>\n	<li>Stress Reduction &amp\; Relaxation</li>\n	<li>Improve Concentration &amp\; Mental Acuity</li>\n	<li>Sleep Management</li>\n	<li>FDA registered device</li>\n	<li>NASA Collaboration</li>\n</ul>\n
LOCATION:715 Douglas Avenue Altamonte Springs\, FL 32714
UID:e.2138.14814
SEQUENCE:3
DTSTAMP:20260423T233211Z
URL:https://business.seminolebusiness.org/events/details/life-is-in-the-blood-get-stay-healthy-from-the-inside-out-in-as-little-as-8-minutes-a-day-increase-your-energy-be-ready-for-the-holiday-season-14814
END:VEVENT

END:VCALENDAR
