BEGIN:VCALENDAR
VERSION:2.0
PRODID:-//ChamberMaster//Event Calendar 2.0//EN
METHOD:PUBLISH
X-PUBLISHED-TTL:P3D
REFRESH-INTERVAL:P3D
CALSCALE:GREGORIAN
BEGIN:VEVENT
DTSTART:20170411T160000Z
DTEND:20170411T170000Z
X-MICROSOFT-CDO-ALLDAYEVENT:FALSE
SUMMARY:List Your House with Drones\, Photos and Videos!
DESCRIPTION:Make your listing POP so buyers swarm to you!  This FREE lunch and learn is perfect for selling agents\, buying agents\, brokers\, broker associates and FSBO.  We are excited to have Vic DeVore\, of DeVore Designs\, bring his expertise and in depth experience in drones\, photography and media to you!  This lunch and learn will be interactive as you will experience drone demonstrations\, making vivid videos with your own devices and so much more.  His topics include:\n\nMake Your House POP!\n\nFAA Drone Rules\n\nEffectively Using Digital Media\n\nThe Long Term Benefits\n\nDIY Photo & Video Tips
X-ALT-DESC;FMTTYPE=text/html:<p>Make your listing POP so buyers swarm to you! &nbsp\;This FREE lunch and learn is perfect for selling agents\, buying agents\, brokers\, broker associates and FSBO. &nbsp\;<strong>We are excited to have Vic DeVore\, of DeVore Designs\, bring his expertise and in depth experience in drones\, photography and media to you!</strong>&nbsp\; This lunch and learn will be interactive as you will experience drone demonstrations\, making vivid videos with your own devices and so much more. &nbsp\;His topics include:</p>\n\n<p><strong>Make Your House POP!</strong><br />\n<strong>FAA Drone Rules</strong><br />\n<strong>Effectively Using Digital Media</strong><br />\n<strong>The Long Term Benefits</strong><br />\n<strong>DIY Photo &amp\; Video Tips</strong></p>\n
LOCATION:Location Capital Land Settlement's office 1056 Willa Springs Drive Winter Springs FL 32708
UID:e.2138.6674
SEQUENCE:3
DTSTAMP:20260423T194013Z
URL:https://business.seminolebusiness.org/events/details/list-your-house-with-drones-photos-and-videos-6674
END:VEVENT

END:VCALENDAR
