BEGIN:VCALENDAR
VERSION:2.0
PRODID:-//ChamberMaster//Event Calendar 2.0//EN
METHOD:PUBLISH
X-PUBLISHED-TTL:P3D
REFRESH-INTERVAL:P3D
CALSCALE:GREGORIAN
BEGIN:VEVENT
DTSTART:20250802T170000Z
DTEND:20250802T190000Z
X-MICROSOFT-CDO-ALLDAYEVENT:FALSE
SUMMARY:LIVE MUSIC BRUNCH
DESCRIPTION:?? You're Invited to Brunch at Pisco Lake Mary!\n\nJoin us this Saturday from 1 PM to 3 PM for an unforgettable afternoon of elevated flavors\, refreshing cocktails\, and good vibes.\n\n?? Signature Brunch Dishes\n\n?? Handcrafted Cocktails & Mimosas\n\n?? Great Music & Atmosphere\n\nWhether you're coming with friends or making it a date\, it's the perfect weekend plan.\n\n?? Pisco Peruvian Gastrobar   Lake Mary\n\n?? Saturday | 1:00 PM   3:00 PM\n\nCome for the brunch\, stay for the experience.\n\nReserve your table now!
X-ALT-DESC;FMTTYPE=text/html:<p><strong>?? You&#39\;re Invited to Brunch at Pisco Lake Mary!</strong></p>\n\n<p>Join us this&nbsp\;<strong>Saturday from 1 PM to 3 PM</strong>&nbsp\;for an unforgettable afternoon of elevated flavors\, refreshing cocktails\, and good vibes.</p>\n\n<p>??&nbsp\;<em>Signature Brunch Dishes</em><br />\n??&nbsp\;<em>Handcrafted Cocktails &amp\; Mimosas</em><br />\n??&nbsp\;<em>Great Music &amp\; Atmosphere</em></p>\n\n<p>Whether you&#39\;re coming with friends or making it a date\, it&#39\;s the perfect weekend plan.</p>\n\n<p>??&nbsp\;<em>Pisco Peruvian Gastrobar &ndash\; Lake Mary</em><br />\n?? Saturday | 1:00 PM &ndash\; 3:00 PM</p>\n\n<p>Come for the brunch\, stay for the experience.<br />\n<strong>Reserve your table now!</strong></p>\n
LOCATION:
UID:e.2138.37700
SEQUENCE:3
DTSTAMP:20260423T084642Z
URL:https://business.seminolebusiness.org/events/details/live-music-brunch-37700
END:VEVENT

END:VCALENDAR
