BEGIN:VCALENDAR
VERSION:2.0
PRODID:-//ChamberMaster//Event Calendar 2.0//EN
METHOD:PUBLISH
X-PUBLISHED-TTL:P3D
REFRESH-INTERVAL:P3D
CALSCALE:GREGORIAN
BEGIN:VEVENT
DTSTART:20160409T113000Z
DTEND:20160409T150000Z
X-MICROSOFT-CDO-ALLDAYEVENT:FALSE
SUMMARY:Live\, Work\, Move Seminole 5K
DESCRIPTION:The Florida Department of Health in Seminole County is hosting the 2nd annual Live\, Work\, Move Seminole 5K to celebrate healthy living during National Public Health Week on April 9 in Sanford. The event encourages residents\, employees and visitors of Seminole County to become physically active and focus on personal wellness.\n\nAll finishers will receive a commemorative finisher's medal\, t-shirt\, back pack and materials to stay healthy and make Seminole County the healthiest county in Florida!\n\nAwards and recognition will be given in the following categories in Seminole County\, so please be sure to register with only one designated group if applicable:  Employer with the most employees participating in the race\, School with the most students and staff participating in the race\, Faith-based Community with the most members participating in the race\, Neighborhood Community with the most residents participating in the race and Social\, Recreation or Fraternal Group with the most members participating in the race.\n\n\n\nCLICK HERE TO REGISTER\n\n\n\nThere will also be a free 100 Meter Dash for youth ages 12 and under\, immediately following the 5k race.\n\n\n\nSponsorship opportunities are still available. Please contact Venise White\, Office of Health Promotion and Education at 407-665-3008 for more information. \n\n\n\nFOLLOW LIVE\, WORK\, MOVE SEMINOLE 5K ON FACEBOOK
X-ALT-DESC;FMTTYPE=text/html:<p><span style="color:rgb(0\, 0\, 0)">The Florida Department of Health in Seminole County&nbsp\;is hosting the <strong>2nd annual Live\, Work\, Move Seminole 5K </strong>to celebrate healthy living during National Public Health Week on April 9 in Sanford. The event encourages residents\, employees and visitors of Seminole County to become physically active and focus on personal wellness.</span></p>\n\n<p><span style="color:rgb(0\, 0\, 0)">All finishers will receive a commemorative finisher&#39\;s medal\, t-shirt\, back pack and&nbsp\;materials to stay healthy and make <strong>Seminole County</strong> the <em>healthiest</em> county in Florida!</span></p>\n\n<p><span style="color:rgb(0\, 0\, 0)">Awards and recognition will be given in the following categories in Seminole County\, so please be sure to register with only one designated group if applicable:&nbsp\; <u>Employer</u> with the most employees participating in the race\, <u>School</u> with the most students and staff participating in the race\, <u>Faith-based Community</u> with the most members participating in the race\, <u>Neighborhood Community</u> with the most residents participating in the race and <u>Social\, Recreation or Fraternal Group</u> with the most members participating in the race.</span><br />\n<br />\n<a href="http://runsignup.com/Race/FL/Sanford/LIVEWORKMOVESEMINOLE5KRunWalk" target="_top"><span style="color:rgb(0\, 128\, 128)"><strong>CLICK HERE TO REGISTER</strong></span></a><br />\n<br />\n<span style="color:rgb(0\, 0\, 0)">There will also be a free 100 Meter Dash&nbsp\;for youth ages 12 and under\, immediately following the 5k race.<br />\n<br />\nSponsorship opportunities are still available.&nbsp\;Please contact Venise White\, Office of Health Promotion and Education at 407-665-3008 for more information.&nbsp\;</span><br />\n<br />\n<a href="http://www.facebook.com/events/801749953268303/" target="_top"><span style="color:rgb(51\, 0\, 255)"><strong>FOLLOW LIVE\, WORK\, MOVE SEMINOLE&nbsp\;5K ON&nbsp\;FACEBOOK</strong></span></a><br />\n&nbsp\;</p>\n
LOCATION:Sanford Riverwalk at Fort Mellon Park 600 East 1st Street\, Sanford
UID:e.2138.4351
SEQUENCE:3
DTSTAMP:20260426T013715Z
URL:https://business.seminolebusiness.org/events/details/live-work-move-seminole-5k-04-09-2016-4351
END:VEVENT

END:VCALENDAR
