BEGIN:VCALENDAR
VERSION:2.0
PRODID:-//ChamberMaster//Event Calendar 2.0//EN
METHOD:PUBLISH
X-PUBLISHED-TTL:P3D
REFRESH-INTERVAL:P3D
CALSCALE:GREGORIAN
BEGIN:VEVENT
DTSTART:20231202T200000Z
DTEND:20231202T230000Z
X-MICROSOFT-CDO-ALLDAYEVENT:FALSE
SUMMARY:Longwood Christmas Parade
DESCRIPTION:Come join us for our Longwood Christmas Parade held annually on the 1st Saturday in December featuring stunning cars\, seasonal characters\, bands\, and much more. Mc'd by Chad & Leslye from Magic 107.7!\n\n\n\nTo ensure the safety of patron and parade participants\, the following roads will be closed during the event:\n\n\n\nCR 427 (Ronald Reagan Boulevard\,) will be CLOSED between the intersection of Longwood Hills Road and State Road 434 in both directions on Saturday\, December 2\, 2023\, from approximately 12:00pm until 5:00pm due to the City of Longwood Christmas Parade.\n\n\n\nThe following roads in the historic district will be closed:\n\n\n\nW Warren Ave from CR 427 to Milwee St (residents east of the community building will have access to their homes throughout the day)\n\n\n\nW Church Ave from CR 427 to Milwee St\n\nWilma St from E Bay Ave to W Church Ave\n\n\n\nWe appreciate your patience during this time and realize that this may be an inconvenience to those within the parade route.
X-ALT-DESC;FMTTYPE=text/html:<div>\n<div>Come join us for our Longwood Christmas Parade held annually on the 1st Saturday in December featuring stunning cars\, seasonal characters\, bands\, and much more. Mc&#39\;d by Chad &amp\; Leslye from Magic 107.7!<br />\n<br />\nTo ensure the safety of patron and parade participants\, the following roads will be closed during the event:<br />\n<br />\nCR 427 (Ronald Reagan Boulevard\,) will be CLOSED between the intersection of Longwood Hills Road and State Road 434 in both directions on Saturday\, December 2\, 2023\, from approximately 12:00pm until 5:00pm due to the City of Longwood Christmas Parade.<br />\n<br />\nThe following roads in the historic district will be closed:<br />\n<br />\nW Warren Ave from CR 427 to Milwee St (residents east of the community building will have access to their homes throughout the day)<br />\n<br />\nW Church Ave from CR 427 to Milwee St<br />\nWilma St from E Bay Ave to W Church Ave<br />\n<br />\nWe appreciate your patience during this time and realize that this may be an inconvenience to those within the parade route.&nbsp\;</div>\n</div>\n
LOCATION:North Ronald Reagan Longwood\, FL 32750
UID:e.2138.33302
SEQUENCE:3
DTSTAMP:20260424T202808Z
URL:https://business.seminolebusiness.org/events/details/longwood-christmas-parade-12-02-2023-33302
END:VEVENT

END:VCALENDAR
